BEGIN:VCALENDAR
VERSION:2.0
PRODID:-//The Great Exchange - ECPv6.15.20//NONSGML v1.0//EN
CALSCALE:GREGORIAN
METHOD:PUBLISH
X-ORIGINAL-URL:https://thegreatexchange.org
X-WR-CALDESC:Events for The Great Exchange
REFRESH-INTERVAL;VALUE=DURATION:PT1H
X-Robots-Tag:noindex
X-PUBLISHED-TTL:PT1H
BEGIN:VTIMEZONE
TZID:UTC
BEGIN:STANDARD
TZOFFSETFROM:+0000
TZOFFSETTO:+0000
TZNAME:UTC
DTSTART:20240101T000000
END:STANDARD
END:VTIMEZONE
BEGIN:VEVENT
DTSTART;TZID=UTC:20250213T173000
DTEND;TZID=UTC:20250213T200000
DTSTAMP:20260421T083609
CREATED:20240701T204502Z
LAST-MODIFIED:20241230T145817Z
UID:10000324-1739467800-1739476800@thegreatexchange.org
SUMMARY:The Great Exchange Fundraising Banquet
DESCRIPTION:Prince Avenue Baptist Church Tabernacle
URL:https://thegreatexchange.org/event/tge-fundraising-banquet-3/
END:VEVENT
END:VCALENDAR