BEGIN:VCALENDAR
VERSION:2.0
PRODID:-//The Great Exchange - ECPv6.15.20//NONSGML v1.0//EN
CALSCALE:GREGORIAN
METHOD:PUBLISH
X-ORIGINAL-URL:https://thegreatexchange.org
X-WR-CALDESC:Events for The Great Exchange
REFRESH-INTERVAL;VALUE=DURATION:PT1H
X-Robots-Tag:noindex
X-PUBLISHED-TTL:PT1H
BEGIN:VTIMEZONE
TZID:America/New_York
BEGIN:DAYLIGHT
TZOFFSETFROM:-0500
TZOFFSETTO:-0400
TZNAME:EDT
DTSTART:20240310T070000
END:DAYLIGHT
BEGIN:STANDARD
TZOFFSETFROM:-0400
TZOFFSETTO:-0500
TZNAME:EST
DTSTART:20241103T060000
END:STANDARD
BEGIN:DAYLIGHT
TZOFFSETFROM:-0500
TZOFFSETTO:-0400
TZNAME:EDT
DTSTART:20250309T070000
END:DAYLIGHT
BEGIN:STANDARD
TZOFFSETFROM:-0400
TZOFFSETTO:-0500
TZNAME:EST
DTSTART:20251102T060000
END:STANDARD
BEGIN:DAYLIGHT
TZOFFSETFROM:-0500
TZOFFSETTO:-0400
TZNAME:EDT
DTSTART:20260308T070000
END:DAYLIGHT
BEGIN:STANDARD
TZOFFSETFROM:-0400
TZOFFSETTO:-0500
TZNAME:EST
DTSTART:20261101T060000
END:STANDARD
END:VTIMEZONE
BEGIN:VEVENT
DTSTART;TZID=America/New_York:20250220T100000
DTEND;TZID=America/New_York:20250220T140000
DTSTAMP:20260421T083559
CREATED:20241206T150643Z
LAST-MODIFIED:20250107T184304Z
UID:10000455-1740045600-1740060000@thegreatexchange.org
SUMMARY:Georgia College
DESCRIPTION:Hosted by the Baptist Collegiate Ministries (BCM)
URL:https://thegreatexchange.org/event/georgia-college-4/
END:VEVENT
BEGIN:VEVENT
DTSTART;TZID=America/New_York:20250220T100000
DTEND;TZID=America/New_York:20250220T140000
DTSTAMP:20260421T083559
CREATED:20241230T143806Z
LAST-MODIFIED:20241230T143806Z
UID:10000461-1740045600-1740060000@thegreatexchange.org
SUMMARY:East Georgia State College
DESCRIPTION:Hosted by Hawhammock Baptist Church
URL:https://thegreatexchange.org/event/east-georgia-state-college-5/
END:VEVENT
BEGIN:VEVENT
DTSTART;TZID=America/New_York:20250220T100000
DTEND;TZID=America/New_York:20250220T140000
DTSTAMP:20260421T083559
CREATED:20250109T205731Z
LAST-MODIFIED:20250109T205731Z
UID:10000504-1740045600-1740060000@thegreatexchange.org
SUMMARY:Georgia Gwinnett College
DESCRIPTION:Hosted by the Baptist Collegiate Ministries (BCM)
URL:https://thegreatexchange.org/event/georgia-gwinnett-college-11/
END:VEVENT
END:VCALENDAR