BEGIN:VCALENDAR
VERSION:2.0
PRODID:-//The Great Exchange - ECPv6.15.20//NONSGML v1.0//EN
CALSCALE:GREGORIAN
METHOD:PUBLISH
X-ORIGINAL-URL:https://thegreatexchange.org
X-WR-CALDESC:Events for The Great Exchange
REFRESH-INTERVAL;VALUE=DURATION:PT1H
X-Robots-Tag:noindex
X-PUBLISHED-TTL:PT1H
BEGIN:VTIMEZONE
TZID:America/New_York
BEGIN:DAYLIGHT
TZOFFSETFROM:-0500
TZOFFSETTO:-0400
TZNAME:EDT
DTSTART:20240310T070000
END:DAYLIGHT
BEGIN:STANDARD
TZOFFSETFROM:-0400
TZOFFSETTO:-0500
TZNAME:EST
DTSTART:20241103T060000
END:STANDARD
BEGIN:DAYLIGHT
TZOFFSETFROM:-0500
TZOFFSETTO:-0400
TZNAME:EDT
DTSTART:20250309T070000
END:DAYLIGHT
BEGIN:STANDARD
TZOFFSETFROM:-0400
TZOFFSETTO:-0500
TZNAME:EST
DTSTART:20251102T060000
END:STANDARD
BEGIN:DAYLIGHT
TZOFFSETFROM:-0500
TZOFFSETTO:-0400
TZNAME:EDT
DTSTART:20260308T070000
END:DAYLIGHT
BEGIN:STANDARD
TZOFFSETFROM:-0400
TZOFFSETTO:-0500
TZNAME:EST
DTSTART:20261101T060000
END:STANDARD
END:VTIMEZONE
BEGIN:VEVENT
DTSTART;TZID=America/New_York:20250402T100000
DTEND;TZID=America/New_York:20250402T140000
DTSTAMP:20260420T121729
CREATED:20250214T192244Z
LAST-MODIFIED:20250331T001701Z
UID:10000528-1743588000-1743602400@thegreatexchange.org
SUMMARY:University of Georgia
DESCRIPTION:Hosted by Watkinsville First Baptist Church at UGA’s Tate Northwest Lawn
URL:https://thegreatexchange.org/event/university-of-georgia-41/
END:VEVENT
BEGIN:VEVENT
DTSTART;TZID=America/New_York:20250402T100000
DTEND;TZID=America/New_York:20250402T140000
DTSTAMP:20260420T121729
CREATED:20250326T201732Z
LAST-MODIFIED:20250326T201732Z
UID:10000546-1743588000-1743602400@thegreatexchange.org
SUMMARY:Georgia State University: Newton
DESCRIPTION:Hosted by the Baptist Collegiate Ministries (BCM)
URL:https://thegreatexchange.org/event/georgia-state-university-newton-5/
END:VEVENT
END:VCALENDAR