BEGIN:VCALENDAR
VERSION:2.0
PRODID:-//The Great Exchange - ECPv6.15.20//NONSGML v1.0//EN
CALSCALE:GREGORIAN
METHOD:PUBLISH
X-WR-CALNAME:The Great Exchange
X-ORIGINAL-URL:https://thegreatexchange.org
X-WR-CALDESC:Events for The Great Exchange
REFRESH-INTERVAL;VALUE=DURATION:PT1H
X-Robots-Tag:noindex
X-PUBLISHED-TTL:PT1H
BEGIN:VTIMEZONE
TZID:America/New_York
BEGIN:DAYLIGHT
TZOFFSETFROM:-0500
TZOFFSETTO:-0400
TZNAME:EDT
DTSTART:20240310T070000
END:DAYLIGHT
BEGIN:STANDARD
TZOFFSETFROM:-0400
TZOFFSETTO:-0500
TZNAME:EST
DTSTART:20241103T060000
END:STANDARD
BEGIN:DAYLIGHT
TZOFFSETFROM:-0500
TZOFFSETTO:-0400
TZNAME:EDT
DTSTART:20250309T070000
END:DAYLIGHT
BEGIN:STANDARD
TZOFFSETFROM:-0400
TZOFFSETTO:-0500
TZNAME:EST
DTSTART:20251102T060000
END:STANDARD
BEGIN:DAYLIGHT
TZOFFSETFROM:-0500
TZOFFSETTO:-0400
TZNAME:EDT
DTSTART:20260308T070000
END:DAYLIGHT
BEGIN:STANDARD
TZOFFSETFROM:-0400
TZOFFSETTO:-0500
TZNAME:EST
DTSTART:20261101T060000
END:STANDARD
END:VTIMEZONE
BEGIN:VEVENT
DTSTART;TZID=America/New_York:20250416T100000
DTEND;TZID=America/New_York:20250416T140000
DTSTAMP:20260420T134711
CREATED:20241203T202156Z
LAST-MODIFIED:20241203T202156Z
UID:10000454-1744797600-1744812000@thegreatexchange.org
SUMMARY:Auburn University
DESCRIPTION:Hosted by the Baptist Collegiate Ministries (BCM)
URL:https://thegreatexchange.org/event/auburn-university-8/
END:VEVENT
BEGIN:VEVENT
DTSTART;TZID=America/New_York:20250416T100000
DTEND;TZID=America/New_York:20250416T140000
DTSTAMP:20260420T134711
CREATED:20250214T193524Z
LAST-MODIFIED:20250214T193524Z
UID:10000529-1744797600-1744812000@thegreatexchange.org
SUMMARY:Columbus State University
DESCRIPTION:Hosted by the Baptist Collegiate Ministries (BCM)
URL:https://thegreatexchange.org/event/columbus-state-university-3/
END:VEVENT
END:VCALENDAR