BEGIN:VCALENDAR
VERSION:2.0
PRODID:-//The Great Exchange - ECPv6.15.20//NONSGML v1.0//EN
CALSCALE:GREGORIAN
METHOD:PUBLISH
X-WR-CALNAME:The Great Exchange
X-ORIGINAL-URL:https://thegreatexchange.org
X-WR-CALDESC:Events for The Great Exchange
REFRESH-INTERVAL;VALUE=DURATION:PT1H
X-Robots-Tag:noindex
X-PUBLISHED-TTL:PT1H
BEGIN:VTIMEZONE
TZID:America/New_York
BEGIN:DAYLIGHT
TZOFFSETFROM:-0500
TZOFFSETTO:-0400
TZNAME:EDT
DTSTART:20240310T070000
END:DAYLIGHT
BEGIN:STANDARD
TZOFFSETFROM:-0400
TZOFFSETTO:-0500
TZNAME:EST
DTSTART:20241103T060000
END:STANDARD
BEGIN:DAYLIGHT
TZOFFSETFROM:-0500
TZOFFSETTO:-0400
TZNAME:EDT
DTSTART:20250309T070000
END:DAYLIGHT
BEGIN:STANDARD
TZOFFSETFROM:-0400
TZOFFSETTO:-0500
TZNAME:EST
DTSTART:20251102T060000
END:STANDARD
BEGIN:DAYLIGHT
TZOFFSETFROM:-0500
TZOFFSETTO:-0400
TZNAME:EDT
DTSTART:20260308T070000
END:DAYLIGHT
BEGIN:STANDARD
TZOFFSETFROM:-0400
TZOFFSETTO:-0500
TZNAME:EST
DTSTART:20261101T060000
END:STANDARD
END:VTIMEZONE
BEGIN:VEVENT
DTSTART;TZID=America/New_York:20250423T100000
DTEND;TZID=America/New_York:20250423T140000
DTSTAMP:20260420T134711
CREATED:20241230T150849Z
LAST-MODIFIED:20241230T150849Z
UID:10000475-1745402400-1745416800@thegreatexchange.org
SUMMARY:University of North Georgia: Oconee
DESCRIPTION:Hosted by Watkinsville First Baptist Church
URL:https://thegreatexchange.org/event/university-of-north-georgia-oconee-9/
END:VEVENT
BEGIN:VEVENT
DTSTART;TZID=America/New_York:20250423T100000
DTEND;TZID=America/New_York:20250423T140000
DTSTAMP:20260420T134711
CREATED:20250204T182412Z
LAST-MODIFIED:20250204T182412Z
UID:10000525-1745402400-1745416800@thegreatexchange.org
SUMMARY:University of Tennessee: Knoxville
DESCRIPTION:Hosted by the Baptist Collegiate Ministries (BCM)
URL:https://thegreatexchange.org/event/university-of-tennessee-knoxville-5/
END:VEVENT
BEGIN:VEVENT
DTSTART;TZID=America/New_York:20250423T100000
DTEND;TZID=America/New_York:20250423T140000
DTSTAMP:20260420T134711
CREATED:20250416T010930Z
LAST-MODIFIED:20250423T005328Z
UID:10000549-1745402400-1745416800@thegreatexchange.org
SUMMARY:University of Georgia
DESCRIPTION:Hosted by Prince Avenue Baptist Church at UGA’s Memorial Hall Plaza
URL:https://thegreatexchange.org/event/university-of-georgia-63/
END:VEVENT
END:VCALENDAR