BEGIN:VCALENDAR
VERSION:2.0
PRODID:-//The Great Exchange - ECPv6.15.20//NONSGML v1.0//EN
CALSCALE:GREGORIAN
METHOD:PUBLISH
X-ORIGINAL-URL:https://thegreatexchange.org
X-WR-CALDESC:Events for The Great Exchange
REFRESH-INTERVAL;VALUE=DURATION:PT1H
X-Robots-Tag:noindex
X-PUBLISHED-TTL:PT1H
BEGIN:VTIMEZONE
TZID:America/New_York
BEGIN:DAYLIGHT
TZOFFSETFROM:-0500
TZOFFSETTO:-0400
TZNAME:EDT
DTSTART:20250309T070000
END:DAYLIGHT
BEGIN:STANDARD
TZOFFSETFROM:-0400
TZOFFSETTO:-0500
TZNAME:EST
DTSTART:20251102T060000
END:STANDARD
BEGIN:DAYLIGHT
TZOFFSETFROM:-0500
TZOFFSETTO:-0400
TZNAME:EDT
DTSTART:20260308T070000
END:DAYLIGHT
BEGIN:STANDARD
TZOFFSETFROM:-0400
TZOFFSETTO:-0500
TZNAME:EST
DTSTART:20261101T060000
END:STANDARD
BEGIN:DAYLIGHT
TZOFFSETFROM:-0500
TZOFFSETTO:-0400
TZNAME:EDT
DTSTART:20270314T070000
END:DAYLIGHT
BEGIN:STANDARD
TZOFFSETFROM:-0400
TZOFFSETTO:-0500
TZNAME:EST
DTSTART:20271107T060000
END:STANDARD
END:VTIMEZONE
BEGIN:VEVENT
DTSTART;TZID=America/New_York:20260223T100000
DTEND;TZID=America/New_York:20260223T140000
DTSTAMP:20260424T100232
CREATED:20260109T153013Z
LAST-MODIFIED:20260223T114547Z
UID:10000716-1771840800-1771855200@thegreatexchange.org
SUMMARY:University of Georgia
DESCRIPTION:Hosted by Lexington Baptist Church at UGA’s Tate Northwest Lawn / Project Leader: Edmond Caouette
URL:https://thegreatexchange.org/event/university-of-georgia-97-3/
END:VEVENT
BEGIN:VEVENT
DTSTART;TZID=America/New_York:20260223T110000
DTEND;TZID=America/New_York:20260223T140000
DTSTAMP:20260424T100232
CREATED:20260130T160453Z
LAST-MODIFIED:20260130T160455Z
UID:10000656-1771844400-1771855200@thegreatexchange.org
SUMMARY:University of North Georgia: Dahlonega
DESCRIPTION:Hosted by the Baptist Collegiate Ministries (BCM)  / Project Leader: Felix Moncada
URL:https://thegreatexchange.org/event/university-of-north-georgia-dahlonega-8-9/
END:VEVENT
END:VCALENDAR