BEGIN:VCALENDAR
VERSION:2.0
PRODID:-//The Great Exchange - ECPv6.15.20//NONSGML v1.0//EN
CALSCALE:GREGORIAN
METHOD:PUBLISH
X-ORIGINAL-URL:https://thegreatexchange.org
X-WR-CALDESC:Events for The Great Exchange
REFRESH-INTERVAL;VALUE=DURATION:PT1H
X-Robots-Tag:noindex
X-PUBLISHED-TTL:PT1H
BEGIN:VTIMEZONE
TZID:America/New_York
BEGIN:DAYLIGHT
TZOFFSETFROM:-0500
TZOFFSETTO:-0400
TZNAME:EDT
DTSTART:20250309T070000
END:DAYLIGHT
BEGIN:STANDARD
TZOFFSETFROM:-0400
TZOFFSETTO:-0500
TZNAME:EST
DTSTART:20251102T060000
END:STANDARD
BEGIN:DAYLIGHT
TZOFFSETFROM:-0500
TZOFFSETTO:-0400
TZNAME:EDT
DTSTART:20260308T070000
END:DAYLIGHT
BEGIN:STANDARD
TZOFFSETFROM:-0400
TZOFFSETTO:-0500
TZNAME:EST
DTSTART:20261101T060000
END:STANDARD
BEGIN:DAYLIGHT
TZOFFSETFROM:-0500
TZOFFSETTO:-0400
TZNAME:EDT
DTSTART:20270314T070000
END:DAYLIGHT
BEGIN:STANDARD
TZOFFSETFROM:-0400
TZOFFSETTO:-0500
TZNAME:EST
DTSTART:20271107T060000
END:STANDARD
END:VTIMEZONE
BEGIN:VEVENT
DTSTART;TZID=America/New_York:20260319T100000
DTEND;TZID=America/New_York:20260319T140000
DTSTAMP:20260421T054725
CREATED:20251210T015107Z
LAST-MODIFIED:20260112T180011Z
UID:10000704-1773914400-1773928800@thegreatexchange.org
SUMMARY:Southern Union State CC: Opelika
DESCRIPTION:Hosted by the BCM (Baptist Campus Ministries) / Project Leader: Clint Culpepper
URL:https://thegreatexchange.org/event/southern-union-state-cc-opelika/2026-03-19/
END:VEVENT
BEGIN:VEVENT
DTSTART;TZID=America/New_York:20260319T100000
DTEND;TZID=America/New_York:20260319T140000
DTSTAMP:20260421T054725
CREATED:20260112T170449Z
LAST-MODIFIED:20260309T162917Z
UID:10000730-1773914400-1773928800@thegreatexchange.org
SUMMARY:University of Georgia
DESCRIPTION:Hosted by Prince Avenue Baptist Church at UGA’s Memorial Plaza / Project Leader: Tom Bohannon
URL:https://thegreatexchange.org/event/university-of-georgia-96-5/
END:VEVENT
END:VCALENDAR