BEGIN:VCALENDAR
VERSION:2.0
PRODID:-//The Great Exchange - ECPv6.15.20//NONSGML v1.0//EN
CALSCALE:GREGORIAN
METHOD:PUBLISH
X-WR-CALNAME:The Great Exchange
X-ORIGINAL-URL:https://thegreatexchange.org
X-WR-CALDESC:Events for The Great Exchange
REFRESH-INTERVAL;VALUE=DURATION:PT1H
X-Robots-Tag:noindex
X-PUBLISHED-TTL:PT1H
BEGIN:VTIMEZONE
TZID:America/New_York
BEGIN:DAYLIGHT
TZOFFSETFROM:-0500
TZOFFSETTO:-0400
TZNAME:EDT
DTSTART:20230312T070000
END:DAYLIGHT
BEGIN:STANDARD
TZOFFSETFROM:-0400
TZOFFSETTO:-0500
TZNAME:EST
DTSTART:20231105T060000
END:STANDARD
BEGIN:DAYLIGHT
TZOFFSETFROM:-0500
TZOFFSETTO:-0400
TZNAME:EDT
DTSTART:20240310T070000
END:DAYLIGHT
BEGIN:STANDARD
TZOFFSETFROM:-0400
TZOFFSETTO:-0500
TZNAME:EST
DTSTART:20241103T060000
END:STANDARD
BEGIN:DAYLIGHT
TZOFFSETFROM:-0500
TZOFFSETTO:-0400
TZNAME:EDT
DTSTART:20250309T070000
END:DAYLIGHT
BEGIN:STANDARD
TZOFFSETFROM:-0400
TZOFFSETTO:-0500
TZNAME:EST
DTSTART:20251102T060000
END:STANDARD
END:VTIMEZONE
BEGIN:VTIMEZONE
TZID:UTC
BEGIN:STANDARD
TZOFFSETFROM:+0000
TZOFFSETTO:+0000
TZNAME:UTC
DTSTART:20230101T000000
END:STANDARD
END:VTIMEZONE
BEGIN:VEVENT
DTSTART;TZID=America/New_York:20240904T100000
DTEND;TZID=America/New_York:20240904T140000
DTSTAMP:20260419T091614
CREATED:20240830T163856Z
LAST-MODIFIED:20240830T163856Z
UID:10000413-1725444000-1725458400@thegreatexchange.org
SUMMARY:Georgia Highlands College: Cartersville
DESCRIPTION:Hosted by The Church at Acworth
URL:https://thegreatexchange.org/event/georgia-highlands-college-cartersville-5/
END:VEVENT
BEGIN:VEVENT
DTSTART;TZID=America/New_York:20240904T100000
DTEND;TZID=America/New_York:20240904T140000
DTSTAMP:20260419T091614
CREATED:20240627T223755Z
LAST-MODIFIED:20240820T012139Z
UID:10000311-1725444000-1725458400@thegreatexchange.org
SUMMARY:University of Georgia
DESCRIPTION:Hosted by Watkinsville First Baptist Church at UGA’s Northwest Lawn
URL:https://thegreatexchange.org/event/university-of-georgia-28/
END:VEVENT
BEGIN:VEVENT
DTSTART;TZID=America/New_York:20240903T100000
DTEND;TZID=America/New_York:20240903T140000
DTSTAMP:20260419T091614
CREATED:20240830T163737Z
LAST-MODIFIED:20240830T163737Z
UID:10000412-1725357600-1725372000@thegreatexchange.org
SUMMARY:Dalton State College
DESCRIPTION:Hosted by The Church at Acworth
URL:https://thegreatexchange.org/event/dalton-state-college-10/
END:VEVENT
BEGIN:VEVENT
DTSTART;TZID=America/New_York:20240903T100000
DTEND;TZID=America/New_York:20240903T140000
DTSTAMP:20260419T091614
CREATED:20240806T174630Z
LAST-MODIFIED:20240820T011913Z
UID:10000375-1725357600-1725372000@thegreatexchange.org
SUMMARY:Florida A&M University
DESCRIPTION:Hosted by Ratio Christi at FAMU
URL:https://thegreatexchange.org/event/florida-am-university-2/
END:VEVENT
BEGIN:VEVENT
DTSTART;TZID=America/New_York:20240903T100000
DTEND;TZID=America/New_York:20240903T140000
DTSTAMP:20260419T091614
CREATED:20240702T190722Z
LAST-MODIFIED:20240820T011751Z
UID:10000325-1725357600-1725372000@thegreatexchange.org
SUMMARY:University of Georgia
DESCRIPTION:Hosted by Cleveland Road Baptist Church at UGA’s Northwest Lawn
URL:https://thegreatexchange.org/event/university-of-georgia-39/
END:VEVENT
BEGIN:VEVENT
DTSTART;TZID=America/New_York:20240830T100000
DTEND;TZID=America/New_York:20240830T140000
DTSTAMP:20260419T091614
CREATED:20240806T180601Z
LAST-MODIFIED:20240820T011710Z
UID:10000388-1725012000-1725026400@thegreatexchange.org
SUMMARY:Tallahassee State College
DESCRIPTION:Hosted by Ratio Christi at TSC
URL:https://thegreatexchange.org/event/tallahassee-state-college/
END:VEVENT
BEGIN:VEVENT
DTSTART;TZID=America/New_York:20240829T100000
DTEND;TZID=America/New_York:20240829T140000
DTSTAMP:20260419T091614
CREATED:20240718T001601Z
LAST-MODIFIED:20240820T011642Z
UID:10000338-1724925600-1724940000@thegreatexchange.org
SUMMARY:Georgia Gwinnett College
DESCRIPTION:Hosted by the Baptist Collegiate Ministries
URL:https://thegreatexchange.org/event/georgia-gwinnett-college-6/
END:VEVENT
BEGIN:VEVENT
DTSTART;TZID=America/New_York:20240828T100000
DTEND;TZID=America/New_York:20240828T140000
DTSTAMP:20260419T091614
CREATED:20240825T202842Z
LAST-MODIFIED:20240825T222119Z
UID:10000411-1724839200-1724853600@thegreatexchange.org
SUMMARY:Dalton State College
DESCRIPTION:Hosted by The Church at Acworth
URL:https://thegreatexchange.org/event/dalton-state-college-9/
END:VEVENT
BEGIN:VEVENT
DTSTART;TZID=America/New_York:20240828T100000
DTEND;TZID=America/New_York:20240828T140000
DTSTAMP:20260419T091614
CREATED:20240806T172032Z
LAST-MODIFIED:20240820T011616Z
UID:10000361-1724839200-1724853600@thegreatexchange.org
SUMMARY:Florida State University
DESCRIPTION:Hosted by Ratio Christi at FSU
URL:https://thegreatexchange.org/event/florida-state-university-2/
END:VEVENT
BEGIN:VEVENT
DTSTART;TZID=America/New_York:20240827T100000
DTEND;TZID=America/New_York:20240827T140000
DTSTAMP:20260419T091614
CREATED:20240806T174555Z
LAST-MODIFIED:20240820T011534Z
UID:10000374-1724752800-1724767200@thegreatexchange.org
SUMMARY:Florida A&M University
DESCRIPTION:Hosted by Ratio Christi at FAMU
URL:https://thegreatexchange.org/event/florida-am-university/
END:VEVENT
BEGIN:VEVENT
DTSTART;TZID=America/New_York:20240827T100000
DTEND;TZID=America/New_York:20240827T140000
DTSTAMP:20260419T091614
CREATED:20240723T175020Z
LAST-MODIFIED:20240820T011507Z
UID:10000347-1724752800-1724767200@thegreatexchange.org
SUMMARY:Georgia State University: Dunwoody
DESCRIPTION:Hosted by Christ Fellowship Church
URL:https://thegreatexchange.org/event/georgia-state-university-dunwoody/
END:VEVENT
BEGIN:VEVENT
DTSTART;TZID=America/New_York:20240826T100000
DTEND;TZID=America/New_York:20240826T140000
DTSTAMP:20260419T091614
CREATED:20240823T105950Z
LAST-MODIFIED:20240823T110055Z
UID:10000410-1724666400-1724680800@thegreatexchange.org
SUMMARY:Georgia Highlands College: Cartersville
DESCRIPTION:Hosted by The Church at Acworth
URL:https://thegreatexchange.org/event/georgia-highlands-college-cartersville-4/
END:VEVENT
BEGIN:VEVENT
DTSTART;TZID=America/New_York:20240826T100000
DTEND;TZID=America/New_York:20240826T140000
DTSTAMP:20260419T091614
CREATED:20240816T050755Z
LAST-MODIFIED:20240820T191542Z
UID:10000404-1724666400-1724680800@thegreatexchange.org
SUMMARY:University of Georgia
DESCRIPTION:Hosted by Lexington Baptist Church at UGA’s Tate Plaza
URL:https://thegreatexchange.org/event/the-university-of-georgia/
END:VEVENT
BEGIN:VEVENT
DTSTART;TZID=America/New_York:20240823T100000
DTEND;TZID=America/New_York:20240823T140000
DTSTAMP:20260419T091614
CREATED:20240612T174550Z
LAST-MODIFIED:20240820T011247Z
UID:10000305-1724407200-1724421600@thegreatexchange.org
SUMMARY:University of Georgia
DESCRIPTION:Hosted by Mars Hill Baptist Church at UGA’s Tate Plaza
URL:https://thegreatexchange.org/event/university-of-georgia-22/
END:VEVENT
BEGIN:VEVENT
DTSTART;TZID=America/New_York:20240821T100000
DTEND;TZID=America/New_York:20240821T140000
DTSTAMP:20260419T091614
CREATED:20240627T223710Z
LAST-MODIFIED:20240820T011219Z
UID:10000310-1724234400-1724248800@thegreatexchange.org
SUMMARY:University of Georgia
DESCRIPTION:Hosted by Watkinsville First Baptist Church at UGA’s Tate Plaza
URL:https://thegreatexchange.org/event/university-of-georgia-27/
END:VEVENT
BEGIN:VEVENT
DTSTART;TZID=America/New_York:20240821T100000
DTEND;TZID=America/New_York:20240821T140000
DTSTAMP:20260419T091614
CREATED:20240520T232939Z
LAST-MODIFIED:20240820T011147Z
UID:10000300-1724234400-1724248800@thegreatexchange.org
SUMMARY:Auburn University
DESCRIPTION:Hosted by the Baptist Collegiate Ministries
URL:https://thegreatexchange.org/event/auburn-university/
END:VEVENT
BEGIN:VEVENT
DTSTART;TZID=America/New_York:20240820T100000
DTEND;TZID=America/New_York:20240820T140000
DTSTAMP:20260419T091614
CREATED:20240812T155501Z
LAST-MODIFIED:20240820T011118Z
UID:10000399-1724148000-1724162400@thegreatexchange.org
SUMMARY:Kennesaw State University
DESCRIPTION:Hosted by the Navigators
URL:https://thegreatexchange.org/event/kennesaw-state-university-7/
END:VEVENT
BEGIN:VEVENT
DTSTART;TZID=America/New_York:20240819T100000
DTEND;TZID=America/New_York:20240819T140000
DTSTAMP:20260419T091614
CREATED:20240816T190422Z
LAST-MODIFIED:20240820T011052Z
UID:10000408-1724061600-1724076000@thegreatexchange.org
SUMMARY:Georgia Highlands College: Cartersville
DESCRIPTION:Hosted by The Church at Acworth
URL:https://thegreatexchange.org/event/georgia-highlands-college-cartersville-3/
END:VEVENT
BEGIN:VEVENT
DTSTART;TZID=America/New_York:20240816T110000
DTEND;TZID=America/New_York:20240816T140000
DTSTAMP:20260419T091614
CREATED:20240729T212200Z
LAST-MODIFIED:20240820T010957Z
UID:10000355-1723806000-1723816800@thegreatexchange.org
SUMMARY:University of Georgia
DESCRIPTION:Hosted by Living Hope Church at UGA’s Tate Plaza
URL:https://thegreatexchange.org/event/university-of-georgia-42/
END:VEVENT
BEGIN:VEVENT
DTSTART;TZID=America/New_York:20240815T100000
DTEND;TZID=America/New_York:20240815T140000
DTSTAMP:20260419T091614
CREATED:20240628T225426Z
LAST-MODIFIED:20240820T010924Z
UID:10000323-1723716000-1723730400@thegreatexchange.org
SUMMARY:University of Georgia
DESCRIPTION:Hosted by Cleveland Road Baptist Church at UGA’s Tate Plaza
URL:https://thegreatexchange.org/event/university-of-georgia-38/
END:VEVENT
BEGIN:VEVENT
DTSTART;TZID=America/New_York:20240814T100000
DTEND;TZID=America/New_York:20240814T140000
DTSTAMP:20260419T091614
CREATED:20240808T054249Z
LAST-MODIFIED:20240820T010856Z
UID:10000398-1723629600-1723644000@thegreatexchange.org
SUMMARY:Georgia Highlands College: Cartersville
DESCRIPTION:Hosted by The Church at Acworth
URL:https://thegreatexchange.org/event/georgia-highlands-college-cartersville-2/
END:VEVENT
BEGIN:VEVENT
DTSTART;TZID=America/New_York:20240813T100000
DTEND;TZID=America/New_York:20240813T140000
DTSTAMP:20260419T091614
CREATED:20240812T175550Z
LAST-MODIFIED:20240820T010824Z
UID:10000400-1723543200-1723557600@thegreatexchange.org
SUMMARY:Dalton State College
DESCRIPTION:Hosted by The Great Exchange
URL:https://thegreatexchange.org/event/dalton-state-college-8/
END:VEVENT
BEGIN:VEVENT
DTSTART;TZID=UTC:20240602T140000
DTEND;TZID=UTC:20240602T180000
DTSTAMP:20260419T091614
CREATED:20240419T165931Z
LAST-MODIFIED:20240419T165931Z
UID:10000299-1717336800-1717351200@thegreatexchange.org
SUMMARY:Panama City Beach
DESCRIPTION:hosted by Pilgrim Rest Baptist Church
URL:https://thegreatexchange.org/event/panama-city-beach/
END:VEVENT
BEGIN:VEVENT
DTSTART;TZID=UTC:20240430T100000
DTEND;TZID=UTC:20240430T140000
DTSTAMP:20260419T091614
CREATED:20240105T210614Z
LAST-MODIFIED:20240106T191852Z
UID:10000252-1714471200-1714485600@thegreatexchange.org
SUMMARY:Georgia Highlands College: Cartersville
DESCRIPTION:hosted by The Church at Acworth
URL:https://thegreatexchange.org/event/georgia-highlands-cartersville/2024-04-30/
END:VEVENT
BEGIN:VEVENT
DTSTART;TZID=UTC:20240429T100000
DTEND;TZID=UTC:20240429T140000
DTSTAMP:20260419T091614
CREATED:20240106T191246Z
LAST-MODIFIED:20240326T230737Z
UID:10000268-1714384800-1714399200@thegreatexchange.org
SUMMARY:University of Georgia
DESCRIPTION:hosted by Living Hope Church
URL:https://thegreatexchange.org/event/university-of-georgia-17/
END:VEVENT
BEGIN:VEVENT
DTSTART;TZID=UTC:20240427T100000
DTEND;TZID=UTC:20240427T160000
DTSTAMP:20260419T091614
CREATED:20240326T230912Z
LAST-MODIFIED:20240326T230912Z
UID:10000295-1714212000-1714233600@thegreatexchange.org
SUMMARY:Grayson Community Fair
DESCRIPTION:Hosted by Chestnut Grove Baptist Church
URL:https://thegreatexchange.org/event/grayson-community-fair/
END:VEVENT
BEGIN:VEVENT
DTSTART;TZID=UTC:20240426T100000
DTEND;TZID=UTC:20240426T140000
DTSTAMP:20260419T091614
CREATED:20240124T233716Z
LAST-MODIFIED:20240124T233717Z
UID:10000244-1714125600-1714140000@thegreatexchange.org
SUMMARY:University of Georgia
DESCRIPTION:hosted by Mars Hill Baptist Church
URL:https://thegreatexchange.org/event/uga-6-5/
END:VEVENT
BEGIN:VEVENT
DTSTART;TZID=UTC:20240425T100000
DTEND;TZID=UTC:20240425T140000
DTSTAMP:20260419T091614
CREATED:20240105T210022Z
LAST-MODIFIED:20240209T212645Z
UID:10000275-1714039200-1714053600@thegreatexchange.org
SUMMARY:University of Georgia
DESCRIPTION:hosted by Cleveland Road Baptist Church
URL:https://thegreatexchange.org/event/uga-6/
END:VEVENT
BEGIN:VEVENT
DTSTART;TZID=UTC:20240424T100000
DTEND;TZID=UTC:20240424T140000
DTSTAMP:20260419T091614
CREATED:20240105T205046Z
LAST-MODIFIED:20240105T205046Z
UID:10000225-1713952800-1713967200@thegreatexchange.org
SUMMARY:Georgia Tech
DESCRIPTION:hosted by BCM
URL:https://thegreatexchange.org/event/georgia-tech-13/2024-04-24/
END:VEVENT
BEGIN:VEVENT
DTSTART;TZID=UTC:20240423T100000
DTEND;TZID=UTC:20240423T140000
DTSTAMP:20260419T091614
CREATED:20240124T234136Z
LAST-MODIFIED:20240124T234136Z
UID:10000280-1713866400-1713880800@thegreatexchange.org
SUMMARY:UNG: Gainesville
DESCRIPTION:hosted by BCM
URL:https://thegreatexchange.org/event/ung-gainesville-14/2024-04-23/
END:VEVENT
END:VCALENDAR