BEGIN:VCALENDAR
VERSION:2.0
PRODID:-//The Great Exchange - ECPv6.15.20//NONSGML v1.0//EN
CALSCALE:GREGORIAN
METHOD:PUBLISH
X-WR-CALNAME:The Great Exchange
X-ORIGINAL-URL:https://thegreatexchange.org
X-WR-CALDESC:Events for The Great Exchange
REFRESH-INTERVAL;VALUE=DURATION:PT1H
X-Robots-Tag:noindex
X-PUBLISHED-TTL:PT1H
BEGIN:VTIMEZONE
TZID:UTC
BEGIN:STANDARD
TZOFFSETFROM:+0000
TZOFFSETTO:+0000
TZNAME:UTC
DTSTART:20230101T000000
END:STANDARD
END:VTIMEZONE
BEGIN:VEVENT
DTSTART;TZID=UTC:20240429T100000
DTEND;TZID=UTC:20240429T140000
DTSTAMP:20260419T121106
CREATED:20240106T191246Z
LAST-MODIFIED:20240326T230737Z
UID:10000268-1714384800-1714399200@thegreatexchange.org
SUMMARY:University of Georgia
DESCRIPTION:hosted by Living Hope Church
URL:https://thegreatexchange.org/event/university-of-georgia-17/
END:VEVENT
BEGIN:VEVENT
DTSTART;TZID=UTC:20240427T100000
DTEND;TZID=UTC:20240427T160000
DTSTAMP:20260419T121106
CREATED:20240326T230912Z
LAST-MODIFIED:20240326T230912Z
UID:10000295-1714212000-1714233600@thegreatexchange.org
SUMMARY:Grayson Community Fair
DESCRIPTION:Hosted by Chestnut Grove Baptist Church
URL:https://thegreatexchange.org/event/grayson-community-fair/
END:VEVENT
BEGIN:VEVENT
DTSTART;TZID=UTC:20240426T100000
DTEND;TZID=UTC:20240426T140000
DTSTAMP:20260419T121106
CREATED:20240124T233716Z
LAST-MODIFIED:20240124T233717Z
UID:10000244-1714125600-1714140000@thegreatexchange.org
SUMMARY:University of Georgia
DESCRIPTION:hosted by Mars Hill Baptist Church
URL:https://thegreatexchange.org/event/uga-6-5/
END:VEVENT
BEGIN:VEVENT
DTSTART;TZID=UTC:20240425T100000
DTEND;TZID=UTC:20240425T140000
DTSTAMP:20260419T121106
CREATED:20240105T210022Z
LAST-MODIFIED:20240209T212645Z
UID:10000275-1714039200-1714053600@thegreatexchange.org
SUMMARY:University of Georgia
DESCRIPTION:hosted by Cleveland Road Baptist Church
URL:https://thegreatexchange.org/event/uga-6/
END:VEVENT
BEGIN:VEVENT
DTSTART;TZID=UTC:20240424T100000
DTEND;TZID=UTC:20240424T140000
DTSTAMP:20260419T121106
CREATED:20240105T205046Z
LAST-MODIFIED:20240105T205046Z
UID:10000225-1713952800-1713967200@thegreatexchange.org
SUMMARY:Georgia Tech
DESCRIPTION:hosted by BCM
URL:https://thegreatexchange.org/event/georgia-tech-13/2024-04-24/
END:VEVENT
BEGIN:VEVENT
DTSTART;TZID=UTC:20240423T100000
DTEND;TZID=UTC:20240423T140000
DTSTAMP:20260419T121106
CREATED:20240124T234136Z
LAST-MODIFIED:20240124T234136Z
UID:10000280-1713866400-1713880800@thegreatexchange.org
SUMMARY:UNG: Gainesville
DESCRIPTION:hosted by BCM
URL:https://thegreatexchange.org/event/ung-gainesville-14/2024-04-23/
END:VEVENT
BEGIN:VEVENT
DTSTART;TZID=UTC:20240423T100000
DTEND;TZID=UTC:20240423T140000
DTSTAMP:20260419T121106
CREATED:20240105T205827Z
LAST-MODIFIED:20240106T191517Z
UID:10000240-1713866400-1713880800@thegreatexchange.org
SUMMARY:Georgia State University: Clarkston
DESCRIPTION:hosted by Atlanta Reformation Fellowship (ARF)
URL:https://thegreatexchange.org/event/georgia-stateclarkston/2024-04-23/
END:VEVENT
BEGIN:VEVENT
DTSTART;TZID=UTC:20240416T100000
DTEND;TZID=UTC:20240416T140000
DTSTAMP:20260419T121106
CREATED:20240407T064009Z
LAST-MODIFIED:20240407T064009Z
UID:10000298-1713261600-1713276000@thegreatexchange.org
SUMMARY:University of Tennessee: Martin
DESCRIPTION:Hosted by the BCM
URL:https://thegreatexchange.org/event/university-of-tennessee-martin-4/
END:VEVENT
BEGIN:VEVENT
DTSTART;TZID=UTC:20240416T100000
DTEND;TZID=UTC:20240416T140000
DTSTAMP:20260419T121106
CREATED:20240106T191040Z
LAST-MODIFIED:20240106T191050Z
UID:10000229-1713261600-1713276000@thegreatexchange.org
SUMMARY:Georgia State University: Newton
DESCRIPTION:hosted by BCM
URL:https://thegreatexchange.org/event/georgia-statenewton-2/
END:VEVENT
BEGIN:VEVENT
DTSTART;TZID=UTC:20240416T100000
DTEND;TZID=UTC:20240416T140000
DTSTAMP:20260419T121106
CREATED:20240105T210317Z
LAST-MODIFIED:20240106T191353Z
UID:10000248-1713261600-1713276000@thegreatexchange.org
SUMMARY:Dalton State College
DESCRIPTION:hosted by TGE
URL:https://thegreatexchange.org/event/dalton-state-8/2024-04-16/
END:VEVENT
BEGIN:VEVENT
DTSTART;TZID=UTC:20240415T100000
DTEND;TZID=UTC:20240415T140000
DTSTAMP:20260419T121106
CREATED:20240407T063927Z
LAST-MODIFIED:20240407T063927Z
UID:10000297-1713175200-1713189600@thegreatexchange.org
SUMMARY:University of Tennessee: Martin
DESCRIPTION:Hosted by the BCM
URL:https://thegreatexchange.org/event/university-of-tennessee-martin-3/
END:VEVENT
BEGIN:VEVENT
DTSTART;TZID=UTC:20240411T100000
DTEND;TZID=UTC:20240411T140000
DTSTAMP:20260419T121106
CREATED:20240105T211155Z
LAST-MODIFIED:20240106T191418Z
UID:10000264-1712829600-1712844000@thegreatexchange.org
SUMMARY:University of Georgia
DESCRIPTION:hosted by Cleveland Road Baptist
URL:https://thegreatexchange.org/event/uga-9/2024-04-11/
END:VEVENT
BEGIN:VEVENT
DTSTART;TZID=UTC:20240411T100000
DTEND;TZID=UTC:20240411T140000
DTSTAMP:20260419T121106
CREATED:20240105T205046Z
LAST-MODIFIED:20240105T205046Z
UID:10000224-1712829600-1712844000@thegreatexchange.org
SUMMARY:Georgia Tech
DESCRIPTION:hosted by BCM
URL:https://thegreatexchange.org/event/georgia-tech-13/2024-04-11/
END:VEVENT
BEGIN:VEVENT
DTSTART;TZID=UTC:20240410T100000
DTEND;TZID=UTC:20240410T140000
DTSTAMP:20260419T121106
CREATED:20240105T210833Z
LAST-MODIFIED:20240106T191554Z
UID:10000258-1712743200-1712757600@thegreatexchange.org
SUMMARY:University of Georgia
DESCRIPTION:hosted by Watkinsville First Baptist Church
URL:https://thegreatexchange.org/event/uga-8/2024-04-10/
END:VEVENT
BEGIN:VEVENT
DTSTART;TZID=UTC:20240409T100000
DTEND;TZID=UTC:20240409T140000
DTSTAMP:20260419T121106
CREATED:20240105T205827Z
LAST-MODIFIED:20240106T191517Z
UID:10000239-1712656800-1712671200@thegreatexchange.org
SUMMARY:Georgia State University: Clarkston
DESCRIPTION:hosted by Atlanta Reformation Fellowship (ARF)
URL:https://thegreatexchange.org/event/georgia-stateclarkston/2024-04-09/
END:VEVENT
BEGIN:VEVENT
DTSTART;TZID=UTC:20240408T100000
DTEND;TZID=UTC:20240408T140000
DTSTAMP:20260419T121106
CREATED:20240124T233808Z
LAST-MODIFIED:20240124T233808Z
UID:10000276-1712570400-1712584800@thegreatexchange.org
SUMMARY:Arkansas State University
DESCRIPTION:hosted by BCM
URL:https://thegreatexchange.org/event/arkansas-state-university/
END:VEVENT
BEGIN:VEVENT
DTSTART;TZID=UTC:20240403T100000
DTEND;TZID=UTC:20240403T140000
DTSTAMP:20260419T121106
CREATED:20240105T211018Z
LAST-MODIFIED:20240105T211018Z
UID:10000260-1712138400-1712152800@thegreatexchange.org
SUMMARY:UNG: Oconee
DESCRIPTION:hosted by Watkinsville First Baptist Church
URL:https://thegreatexchange.org/event/ung-oconee-7/2024-04-03/
END:VEVENT
BEGIN:VEVENT
DTSTART;TZID=UTC:20240329T100000
DTEND;TZID=UTC:20240329T140000
DTSTAMP:20260419T121106
CREATED:20240124T233636Z
LAST-MODIFIED:20240127T001811Z
UID:10000243-1711706400-1711720800@thegreatexchange.org
SUMMARY:University of Georgia
DESCRIPTION:hosted by Mars Hill Baptist Church
URL:https://thegreatexchange.org/event/uga-6-4/
END:VEVENT
BEGIN:VEVENT
DTSTART;TZID=UTC:20240328T100000
DTEND;TZID=UTC:20240328T140000
DTSTAMP:20260419T121106
CREATED:20240129T012724Z
LAST-MODIFIED:20240129T012724Z
UID:10000286-1711620000-1711634400@thegreatexchange.org
SUMMARY:University of Georgia
DESCRIPTION:hosted by Cleveland Road Baptist Church
URL:https://thegreatexchange.org/event/university-of-georgia-23/2024-03-28/
END:VEVENT
BEGIN:VEVENT
DTSTART;TZID=UTC:20240327T100000
DTEND;TZID=UTC:20240327T140000
DTSTAMP:20260419T121106
CREATED:20240303T052253Z
LAST-MODIFIED:20240303T052253Z
UID:10000274-1711533600-1711548000@thegreatexchange.org
SUMMARY:Georgia State University: Atlanta
DESCRIPTION:hosted by BCM
URL:https://thegreatexchange.org/event/georgia-state-atlanta-2/
END:VEVENT
BEGIN:VEVENT
DTSTART;TZID=UTC:20240327T100000
DTEND;TZID=UTC:20240327T140000
DTSTAMP:20260419T121106
CREATED:20240105T210833Z
LAST-MODIFIED:20240106T191554Z
UID:10000257-1711533600-1711548000@thegreatexchange.org
SUMMARY:University of Georgia
DESCRIPTION:hosted by Watkinsville First Baptist Church
URL:https://thegreatexchange.org/event/uga-8/2024-03-27/
END:VEVENT
BEGIN:VEVENT
DTSTART;TZID=UTC:20240327T100000
DTEND;TZID=UTC:20240327T140000
DTSTAMP:20260419T121106
CREATED:20240105T205046Z
LAST-MODIFIED:20240105T205046Z
UID:10000223-1711533600-1711548000@thegreatexchange.org
SUMMARY:Georgia Tech
DESCRIPTION:hosted by BCM
URL:https://thegreatexchange.org/event/georgia-tech-13/2024-03-27/
END:VEVENT
BEGIN:VEVENT
DTSTART;TZID=UTC:20240326T100000
DTEND;TZID=UTC:20240326T140000
DTSTAMP:20260419T121106
CREATED:20240116T024600Z
LAST-MODIFIED:20240116T024600Z
UID:10000271-1711447200-1711461600@thegreatexchange.org
SUMMARY:Kennesaw State
DESCRIPTION:hosted by the Navs
URL:https://thegreatexchange.org/event/kennesaw-state/2024-03-26/
END:VEVENT
BEGIN:VEVENT
DTSTART;TZID=UTC:20240326T100000
DTEND;TZID=UTC:20240326T140000
DTSTAMP:20260419T121106
CREATED:20240105T210317Z
LAST-MODIFIED:20240106T191353Z
UID:10000247-1711447200-1711461600@thegreatexchange.org
SUMMARY:Dalton State College
DESCRIPTION:hosted by TGE
URL:https://thegreatexchange.org/event/dalton-state-8/2024-03-26/
END:VEVENT
BEGIN:VEVENT
DTSTART;TZID=UTC:20240326T100000
DTEND;TZID=UTC:20240326T140000
DTSTAMP:20260419T121106
CREATED:20240105T205308Z
LAST-MODIFIED:20240106T191704Z
UID:10000228-1711447200-1711461600@thegreatexchange.org
SUMMARY:Georgia State University: Newton
DESCRIPTION:hosted by BCM
URL:https://thegreatexchange.org/event/georgia-statenewton/2024-03-26/
END:VEVENT
BEGIN:VEVENT
DTSTART;TZID=UTC:20240321T100000
DTEND;TZID=UTC:20240321T140000
DTSTAMP:20260419T121106
CREATED:20240326T231032Z
LAST-MODIFIED:20240326T231032Z
UID:10000296-1711015200-1711029600@thegreatexchange.org
SUMMARY:Georgia Gwinnett College
DESCRIPTION:Hosted by the BCM
URL:https://thegreatexchange.org/event/georgia-gwinnett-college-5/
END:VEVENT
BEGIN:VEVENT
DTSTART;TZID=UTC:20240321T100000
DTEND;TZID=UTC:20240321T140000
DTSTAMP:20260419T121106
CREATED:20240105T205458Z
LAST-MODIFIED:20240106T191627Z
UID:10000233-1711015200-1711029600@thegreatexchange.org
SUMMARY:University of Georgia
DESCRIPTION:hosted by Living Hope Church
URL:https://thegreatexchange.org/event/uga-4/2024-03-21/
END:VEVENT
BEGIN:VEVENT
DTSTART;TZID=UTC:20240320T100000
DTEND;TZID=UTC:20240320T140000
DTSTAMP:20260419T121106
CREATED:20240204T225700Z
LAST-MODIFIED:20240204T225700Z
UID:10000290-1710928800-1710943200@thegreatexchange.org
SUMMARY:University of Tennessee: Knoxville
DESCRIPTION:hosted by BCM
URL:https://thegreatexchange.org/event/university-of-tennessee-knoxville/2024-03-20/
END:VEVENT
BEGIN:VEVENT
DTSTART;TZID=UTC:20240319T100000
DTEND;TZID=UTC:20240319T140000
DTSTAMP:20260419T121106
CREATED:20240124T234136Z
LAST-MODIFIED:20240124T234136Z
UID:10000279-1710842400-1710856800@thegreatexchange.org
SUMMARY:UNG: Gainesville
DESCRIPTION:hosted by BCM
URL:https://thegreatexchange.org/event/ung-gainesville-14/2024-03-19/
END:VEVENT
BEGIN:VEVENT
DTSTART;TZID=UTC:20240319T100000
DTEND;TZID=UTC:20240319T140000
DTSTAMP:20260419T121106
CREATED:20240105T205827Z
LAST-MODIFIED:20240106T191517Z
UID:10000238-1710842400-1710856800@thegreatexchange.org
SUMMARY:Georgia State University: Clarkston
DESCRIPTION:hosted by Atlanta Reformation Fellowship (ARF)
URL:https://thegreatexchange.org/event/georgia-stateclarkston/2024-03-19/
END:VEVENT
END:VCALENDAR