BEGIN:VCALENDAR
VERSION:2.0
PRODID:-//The Great Exchange - ECPv6.15.20//NONSGML v1.0//EN
CALSCALE:GREGORIAN
METHOD:PUBLISH
X-WR-CALNAME:The Great Exchange
X-ORIGINAL-URL:https://thegreatexchange.org
X-WR-CALDESC:Events for The Great Exchange
REFRESH-INTERVAL;VALUE=DURATION:PT1H
X-Robots-Tag:noindex
X-PUBLISHED-TTL:PT1H
BEGIN:VTIMEZONE
TZID:UTC
BEGIN:STANDARD
TZOFFSETFROM:+0000
TZOFFSETTO:+0000
TZNAME:UTC
DTSTART:20220101T000000
END:STANDARD
END:VTIMEZONE
BEGIN:VEVENT
DTSTART;TZID=UTC:20240222T100000
DTEND;TZID=UTC:20240222T140000
DTSTAMP:20260419T174909
CREATED:20240129T012724Z
LAST-MODIFIED:20240129T012724Z
UID:10000285-1708596000-1708610400@thegreatexchange.org
SUMMARY:University of Georgia
DESCRIPTION:hosted by Cleveland Road Baptist Church
URL:https://thegreatexchange.org/event/university-of-georgia-23/2024-02-22/
END:VEVENT
BEGIN:VEVENT
DTSTART;TZID=UTC:20240221T100000
DTEND;TZID=UTC:20240221T140000
DTSTAMP:20260419T174909
CREATED:20240204T225700Z
LAST-MODIFIED:20240204T225700Z
UID:10000289-1708509600-1708524000@thegreatexchange.org
SUMMARY:University of Tennessee: Knoxville
DESCRIPTION:hosted by BCM
URL:https://thegreatexchange.org/event/university-of-tennessee-knoxville/2024-02-21/
END:VEVENT
BEGIN:VEVENT
DTSTART;TZID=UTC:20240220T100000
DTEND;TZID=UTC:20240220T140000
DTSTAMP:20260419T174909
CREATED:20240223T053527Z
LAST-MODIFIED:20240223T053527Z
UID:10000270-1708423200-1708437600@thegreatexchange.org
SUMMARY:Kennesaw State University
DESCRIPTION:hosted by the Navigators
URL:https://thegreatexchange.org/event/kennesaw-state-2/
END:VEVENT
BEGIN:VEVENT
DTSTART;TZID=UTC:20240220T100000
DTEND;TZID=UTC:20240220T140000
DTSTAMP:20260419T174909
CREATED:20240124T234136Z
LAST-MODIFIED:20240124T234136Z
UID:10000278-1708423200-1708437600@thegreatexchange.org
SUMMARY:UNG: Gainesville
DESCRIPTION:hosted by BCM
URL:https://thegreatexchange.org/event/ung-gainesville-14/2024-02-20/
END:VEVENT
BEGIN:VEVENT
DTSTART;TZID=UTC:20240220T100000
DTEND;TZID=UTC:20240220T140000
DTSTAMP:20260419T174909
CREATED:20230727T223732Z
LAST-MODIFIED:20230727T223732Z
UID:10000117-1708423200-1708437600@thegreatexchange.org
SUMMARY:University of West Georgia
DESCRIPTION:hosted by BCM
URL:https://thegreatexchange.org/event/university-of-west-georgia-3/
END:VEVENT
BEGIN:VEVENT
DTSTART;TZID=UTC:20240219T100000
DTEND;TZID=UTC:20240219T140000
DTSTAMP:20260419T174909
CREATED:20240124T234323Z
LAST-MODIFIED:20240124T234323Z
UID:10000282-1708336800-1708351200@thegreatexchange.org
SUMMARY:UNG: Dahlonega
DESCRIPTION:hosted by BCM
URL:https://thegreatexchange.org/event/ung-dahlonega-8/2024-02-19/
END:VEVENT
BEGIN:VEVENT
DTSTART;TZID=UTC:20240215T173000
DTEND;TZID=UTC:20240215T200000
DTSTAMP:20260419T174909
CREATED:20230626T203240Z
LAST-MODIFIED:20230626T203240Z
UID:10000110-1708018200-1708027200@thegreatexchange.org
SUMMARY:TGE Fundraising Banquet
DESCRIPTION:Prince Avenue Baptist Church Tabernacle
URL:https://thegreatexchange.org/event/tge-fundraising-banquet-2/
END:VEVENT
BEGIN:VEVENT
DTSTART;TZID=UTC:20240215T100000
DTEND;TZID=UTC:20240215T140000
DTSTAMP:20260419T174909
CREATED:20240129T012811Z
LAST-MODIFIED:20240129T012811Z
UID:10000288-1707991200-1708005600@thegreatexchange.org
SUMMARY:Georgia Gwinnett College
DESCRIPTION:hosted by BCM
URL:https://thegreatexchange.org/event/georgia-gwinnett-college-4/
END:VEVENT
BEGIN:VEVENT
DTSTART;TZID=UTC:20240215T100000
DTEND;TZID=UTC:20240215T140000
DTSTAMP:20260419T174909
CREATED:20240105T205046Z
LAST-MODIFIED:20240105T205046Z
UID:10000220-1707991200-1708005600@thegreatexchange.org
SUMMARY:Georgia Tech
DESCRIPTION:hosted by BCM
URL:https://thegreatexchange.org/event/georgia-tech-13/2024-02-15/
END:VEVENT
BEGIN:VEVENT
DTSTART;TZID=UTC:20240213T100000
DTEND;TZID=UTC:20240213T140000
DTSTAMP:20260419T174909
CREATED:20240105T205827Z
LAST-MODIFIED:20240106T191517Z
UID:10000236-1707818400-1707832800@thegreatexchange.org
SUMMARY:Georgia State University: Clarkston
DESCRIPTION:hosted by Atlanta Reformation Fellowship (ARF)
URL:https://thegreatexchange.org/event/georgia-stateclarkston/2024-02-13/
END:VEVENT
BEGIN:VEVENT
DTSTART;TZID=UTC:20240212T100000
DTEND;TZID=UTC:20240212T140000
DTSTAMP:20260419T174909
CREATED:20240105T210614Z
LAST-MODIFIED:20240106T191852Z
UID:10000251-1707732000-1707746400@thegreatexchange.org
SUMMARY:Georgia Highlands College: Cartersville
DESCRIPTION:hosted by The Church at Acworth
URL:https://thegreatexchange.org/event/georgia-highlands-cartersville/2024-02-12/
END:VEVENT
BEGIN:VEVENT
DTSTART;TZID=UTC:20240208T100000
DTEND;TZID=UTC:20240208T140000
DTSTAMP:20260419T174909
CREATED:20240105T211155Z
LAST-MODIFIED:20240106T191418Z
UID:10000262-1707386400-1707400800@thegreatexchange.org
SUMMARY:University of Georgia
DESCRIPTION:hosted by Cleveland Road Baptist
URL:https://thegreatexchange.org/event/uga-9/2024-02-08/
END:VEVENT
BEGIN:VEVENT
DTSTART;TZID=UTC:20240207T100000
DTEND;TZID=UTC:20240207T140000
DTSTAMP:20260419T174909
CREATED:20240105T211018Z
LAST-MODIFIED:20240105T211018Z
UID:10000259-1707300000-1707314400@thegreatexchange.org
SUMMARY:UNG: Oconee
DESCRIPTION:hosted by Watkinsville First Baptist Church
URL:https://thegreatexchange.org/event/ung-oconee-7/2024-02-07/
END:VEVENT
BEGIN:VEVENT
DTSTART;TZID=UTC:20240206T100000
DTEND;TZID=UTC:20240206T140000
DTSTAMP:20260419T174909
CREATED:20240105T210317Z
LAST-MODIFIED:20240106T191353Z
UID:10000246-1707213600-1707228000@thegreatexchange.org
SUMMARY:Dalton State College
DESCRIPTION:hosted by TGE
URL:https://thegreatexchange.org/event/dalton-state-8/2024-02-06/
END:VEVENT
BEGIN:VEVENT
DTSTART;TZID=UTC:20240205T100000
DTEND;TZID=UTC:20240205T140000
DTSTAMP:20260419T174909
CREATED:20240124T234226Z
LAST-MODIFIED:20240124T234226Z
UID:10000281-1707127200-1707141600@thegreatexchange.org
SUMMARY:Augusta University
DESCRIPTION:hosted by BCM
URL:https://thegreatexchange.org/event/augusta-university-2/
END:VEVENT
BEGIN:VEVENT
DTSTART;TZID=UTC:20240131T100000
DTEND;TZID=UTC:20240131T140000
DTSTAMP:20260419T174909
CREATED:20240123T041102Z
LAST-MODIFIED:20240123T041102Z
UID:10000273-1706695200-1706709600@thegreatexchange.org
SUMMARY:Georgia State: Atlanta
DESCRIPTION:hosted by BCM
URL:https://thegreatexchange.org/event/georgia-state-atlanta/
END:VEVENT
BEGIN:VEVENT
DTSTART;TZID=UTC:20240131T100000
DTEND;TZID=UTC:20240131T140000
DTSTAMP:20260419T174909
CREATED:20240105T210833Z
LAST-MODIFIED:20240106T191554Z
UID:10000254-1706695200-1706709600@thegreatexchange.org
SUMMARY:University of Georgia
DESCRIPTION:hosted by Watkinsville First Baptist Church
URL:https://thegreatexchange.org/event/uga-8/2024-01-31/
END:VEVENT
BEGIN:VEVENT
DTSTART;TZID=UTC:20240131T100000
DTEND;TZID=UTC:20240131T140000
DTSTAMP:20260419T174909
CREATED:20240105T205046Z
LAST-MODIFIED:20240105T205046Z
UID:10000219-1706695200-1706709600@thegreatexchange.org
SUMMARY:Georgia Tech
DESCRIPTION:hosted by BCM
URL:https://thegreatexchange.org/event/georgia-tech-13/2024-01-31/
END:VEVENT
BEGIN:VEVENT
DTSTART;TZID=UTC:20240130T100000
DTEND;TZID=UTC:20240130T140000
DTSTAMP:20260419T174909
CREATED:20240105T205827Z
LAST-MODIFIED:20240106T191517Z
UID:10000235-1706608800-1706623200@thegreatexchange.org
SUMMARY:Georgia State University: Clarkston
DESCRIPTION:hosted by Atlanta Reformation Fellowship (ARF)
URL:https://thegreatexchange.org/event/georgia-stateclarkston/2024-01-30/
END:VEVENT
BEGIN:VEVENT
DTSTART;TZID=UTC:20240126T100000
DTEND;TZID=UTC:20240126T140000
DTSTAMP:20260419T174909
CREATED:20240124T233352Z
LAST-MODIFIED:20240125T021559Z
UID:10000241-1706263200-1706277600@thegreatexchange.org
SUMMARY:University of Georgia
DESCRIPTION:hosted by Mars Hill Baptist Church
URL:https://thegreatexchange.org/event/uga-6-2/
END:VEVENT
BEGIN:VEVENT
DTSTART;TZID=UTC:20240123T100000
DTEND;TZID=UTC:20240123T140000
DTSTAMP:20260419T174909
CREATED:20240116T024600Z
LAST-MODIFIED:20240116T024600Z
UID:10000269-1706004000-1706018400@thegreatexchange.org
SUMMARY:Kennesaw State
DESCRIPTION:hosted by the Navs
URL:https://thegreatexchange.org/event/kennesaw-state/2024-01-23/
END:VEVENT
BEGIN:VEVENT
DTSTART;TZID=UTC:20240123T100000
DTEND;TZID=UTC:20240123T140000
DTSTAMP:20260419T174909
CREATED:20240105T210438Z
LAST-MODIFIED:20240106T191729Z
UID:10000249-1706004000-1706018400@thegreatexchange.org
SUMMARY:Georgia Highlands College: Floyd
DESCRIPTION:hosted by The Church at Acworth
URL:https://thegreatexchange.org/event/georgia-highlands-floyd/
END:VEVENT
BEGIN:VEVENT
DTSTART;TZID=UTC:20240123T100000
DTEND;TZID=UTC:20240123T140000
DTSTAMP:20260419T174909
CREATED:20240105T205308Z
LAST-MODIFIED:20240106T191704Z
UID:10000226-1706004000-1706018400@thegreatexchange.org
SUMMARY:Georgia State University: Newton
DESCRIPTION:hosted by BCM
URL:https://thegreatexchange.org/event/georgia-statenewton/2024-01-23/
END:VEVENT
BEGIN:VEVENT
DTSTART;TZID=UTC:20240118T100000
DTEND;TZID=UTC:20240118T140000
DTSTAMP:20260419T174909
CREATED:20240105T205458Z
LAST-MODIFIED:20240106T191627Z
UID:10000231-1705572000-1705586400@thegreatexchange.org
SUMMARY:University of Georgia
DESCRIPTION:hosted by Living Hope Church
URL:https://thegreatexchange.org/event/uga-4/2024-01-18/
END:VEVENT
BEGIN:VEVENT
DTSTART;TZID=UTC:20240118T100000
DTEND;TZID=UTC:20240118T140000
DTSTAMP:20260419T174909
CREATED:20240105T205046Z
LAST-MODIFIED:20240105T205046Z
UID:10000218-1705572000-1705586400@thegreatexchange.org
SUMMARY:Georgia Tech
DESCRIPTION:hosted by BCM
URL:https://thegreatexchange.org/event/georgia-tech-13/2024-01-18/
END:VEVENT
BEGIN:VEVENT
DTSTART;TZID=UTC:20240116T100000
DTEND;TZID=UTC:20240116T140000
DTSTAMP:20260419T174909
CREATED:20240105T205827Z
LAST-MODIFIED:20240106T191517Z
UID:10000234-1705399200-1705413600@thegreatexchange.org
SUMMARY:Georgia State University: Clarkston
DESCRIPTION:hosted by Atlanta Reformation Fellowship (ARF)
URL:https://thegreatexchange.org/event/georgia-stateclarkston/2024-01-16/
END:VEVENT
BEGIN:VEVENT
DTSTART;TZID=UTC:20240111T100000
DTEND;TZID=UTC:20240111T140000
DTSTAMP:20260419T174909
CREATED:20240105T211155Z
LAST-MODIFIED:20240106T191418Z
UID:10000261-1704967200-1704981600@thegreatexchange.org
SUMMARY:University of Georgia
DESCRIPTION:hosted by Cleveland Road Baptist
URL:https://thegreatexchange.org/event/uga-9/2024-01-11/
END:VEVENT
BEGIN:VEVENT
DTSTART;TZID=UTC:20240109T100000
DTEND;TZID=UTC:20240109T140000
DTSTAMP:20260419T174909
CREATED:20240105T210317Z
LAST-MODIFIED:20240106T191353Z
UID:10000245-1704794400-1704808800@thegreatexchange.org
SUMMARY:Dalton State College
DESCRIPTION:hosted by TGE
URL:https://thegreatexchange.org/event/dalton-state-8/2024-01-09/
END:VEVENT
BEGIN:VEVENT
DTSTART;TZID=UTC:20231206T100000
DTEND;TZID=UTC:20231206T140000
DTSTAMP:20260419T174909
CREATED:20230817T212143Z
LAST-MODIFIED:20231012T055500Z
UID:10000181-1701856800-1701871200@thegreatexchange.org
SUMMARY:University of Georgia
DESCRIPTION:Hosted by Watkinsville First Baptist Church
URL:https://thegreatexchange.org/event/uga-7/
END:VEVENT
BEGIN:VEVENT
DTSTART;TZID=UTC:20231204T100000
DTEND;TZID=UTC:20231204T140000
DTSTAMP:20260419T174909
CREATED:20230804T194329Z
LAST-MODIFIED:20230804T194329Z
UID:10000136-1701684000-1701698400@thegreatexchange.org
SUMMARY:Georgia Tech
DESCRIPTION:Hosted by BCM
URL:https://thegreatexchange.org/event/georgia-tech-14/
END:VEVENT
END:VCALENDAR