BEGIN:VCALENDAR
VERSION:2.0
PRODID:-//The Great Exchange - ECPv6.15.20//NONSGML v1.0//EN
CALSCALE:GREGORIAN
METHOD:PUBLISH
X-WR-CALNAME:The Great Exchange
X-ORIGINAL-URL:https://thegreatexchange.org
X-WR-CALDESC:Events for The Great Exchange
REFRESH-INTERVAL;VALUE=DURATION:PT1H
X-Robots-Tag:noindex
X-PUBLISHED-TTL:PT1H
BEGIN:VTIMEZONE
TZID:UTC
BEGIN:STANDARD
TZOFFSETFROM:+0000
TZOFFSETTO:+0000
TZNAME:UTC
DTSTART:20220101T000000
END:STANDARD
END:VTIMEZONE
BEGIN:VEVENT
DTSTART;TZID=UTC:20231003T100000
DTEND;TZID=UTC:20231003T140000
DTSTAMP:20260420T031420
CREATED:20230804T224138Z
LAST-MODIFIED:20231012T054431Z
UID:10000140-1696327200-1696341600@thegreatexchange.org
SUMMARY:Georgia State University: Clarkston
DESCRIPTION:Hosted by Atlanta Reformation Fellowship (ARF)
URL:https://thegreatexchange.org/event/georgia-state-clarkston-4/
END:VEVENT
BEGIN:VEVENT
DTSTART;TZID=UTC:20231002T100000
DTEND;TZID=UTC:20231002T140000
DTSTAMP:20260420T031420
CREATED:20230727T223245Z
LAST-MODIFIED:20230826T065410Z
UID:10000114-1696240800-1696255200@thegreatexchange.org
SUMMARY:University of Georgia
DESCRIPTION:hosted by Prince Avenue Baptist Church
URL:https://thegreatexchange.org/event/university-of-georgia-12/
END:VEVENT
BEGIN:VEVENT
DTSTART;TZID=UTC:20230928T100000
DTEND;TZID=UTC:20230928T140000
DTSTAMP:20260420T031420
CREATED:20230727T223829Z
LAST-MODIFIED:20230801T043123Z
UID:10000118-1695895200-1695909600@thegreatexchange.org
SUMMARY:East Georgia State College
DESCRIPTION:hosted by Hawhammock Baptist Church
URL:https://thegreatexchange.org/event/east-georgia-state-college/
END:VEVENT
BEGIN:VEVENT
DTSTART;TZID=UTC:20230927T100000
DTEND;TZID=UTC:20230927T140000
DTSTAMP:20260420T031420
CREATED:20230912T063835Z
LAST-MODIFIED:20230912T063835Z
UID:10000194-1695808800-1695823200@thegreatexchange.org
SUMMARY:Georgia College
DESCRIPTION:Hosted by BCM
URL:https://thegreatexchange.org/event/georgia-college-2/
END:VEVENT
BEGIN:VEVENT
DTSTART;TZID=UTC:20230927T100000
DTEND;TZID=UTC:20230927T140000
DTSTAMP:20260420T031420
CREATED:20230817T212453Z
LAST-MODIFIED:20231012T054334Z
UID:10000184-1695808800-1695823200@thegreatexchange.org
SUMMARY:Georgia State University: Atlanta
DESCRIPTION:Hosted by BCM
URL:https://thegreatexchange.org/event/georgia-state-2/
END:VEVENT
BEGIN:VEVENT
DTSTART;TZID=UTC:20230926T100000
DTEND;TZID=UTC:20230926T140000
DTSTAMP:20260420T031420
CREATED:20230814T185032Z
LAST-MODIFIED:20231012T054250Z
UID:10000173-1695722400-1695736800@thegreatexchange.org
SUMMARY:Georgia State University: Newton
DESCRIPTION:Hosted by BCM
URL:https://thegreatexchange.org/event/georgia-state-newton-6/
END:VEVENT
BEGIN:VEVENT
DTSTART;TZID=UTC:20230926T100000
DTEND;TZID=UTC:20230926T140000
DTSTAMP:20260420T031420
CREATED:20230804T225116Z
LAST-MODIFIED:20231012T054226Z
UID:10000152-1695722400-1695736800@thegreatexchange.org
SUMMARY:Dalton State College
DESCRIPTION:Hosted by TGE
URL:https://thegreatexchange.org/event/dalton-state-4/
END:VEVENT
BEGIN:VEVENT
DTSTART;TZID=UTC:20230926T100000
DTEND;TZID=UTC:20230926T140000
DTSTAMP:20260420T031420
CREATED:20230804T193536Z
LAST-MODIFIED:20230804T193536Z
UID:10000126-1695722400-1695736800@thegreatexchange.org
SUMMARY:University of Tennessee: Martin
DESCRIPTION:Hosted by BCM
URL:https://thegreatexchange.org/event/university-of-tennessee-martin-2/
END:VEVENT
BEGIN:VEVENT
DTSTART;TZID=UTC:20230925T110000
DTEND;TZID=UTC:20230925T140000
DTSTAMP:20260420T031420
CREATED:20230804T193722Z
LAST-MODIFIED:20230804T193722Z
UID:10000128-1695639600-1695650400@thegreatexchange.org
SUMMARY:Athens Tech
DESCRIPTION:Hosted by TGE
URL:https://thegreatexchange.org/event/athens-tech-4/
END:VEVENT
BEGIN:VEVENT
DTSTART;TZID=UTC:20230925T100000
DTEND;TZID=UTC:20230925T140000
DTSTAMP:20260420T031420
CREATED:20230804T193448Z
LAST-MODIFIED:20230804T193448Z
UID:10000125-1695636000-1695650400@thegreatexchange.org
SUMMARY:University of Tennessee: Martin
DESCRIPTION:Hosted by BCM
URL:https://thegreatexchange.org/event/university-of-tennessee-martin/
END:VEVENT
BEGIN:VEVENT
DTSTART;TZID=UTC:20230921T100000
DTEND;TZID=UTC:20230921T140000
DTSTAMP:20260420T031420
CREATED:20230804T224656Z
LAST-MODIFIED:20231012T052015Z
UID:10000146-1695290400-1695304800@thegreatexchange.org
SUMMARY:University of Georgia
DESCRIPTION:Hosted by Living Hope Church Athens
URL:https://thegreatexchange.org/event/university-of-georgia-18/
END:VEVENT
BEGIN:VEVENT
DTSTART;TZID=UTC:20230919T100000
DTEND;TZID=UTC:20230919T140000
DTSTAMP:20260420T031420
CREATED:20230804T224051Z
LAST-MODIFIED:20231012T054137Z
UID:10000139-1695117600-1695132000@thegreatexchange.org
SUMMARY:Georgia State University: Clarkston
DESCRIPTION:Hosted by Atlanta Reformation Fellowship (ARF)
URL:https://thegreatexchange.org/event/georgia-state-clarkston-3/
END:VEVENT
BEGIN:VEVENT
DTSTART;TZID=UTC:20230918T110000
DTEND;TZID=UTC:20230918T140000
DTSTAMP:20260420T031420
CREATED:20230912T064250Z
LAST-MODIFIED:20231012T051939Z
UID:10000195-1695034800-1695045600@thegreatexchange.org
SUMMARY:UNG: Dahlonega
DESCRIPTION:Hosted by BCM
URL:https://thegreatexchange.org/event/ung-dahlonegha/
END:VEVENT
BEGIN:VEVENT
DTSTART;TZID=UTC:20230918T100000
DTEND;TZID=UTC:20230918T140000
DTSTAMP:20260420T031420
CREATED:20230829T234350Z
LAST-MODIFIED:20231012T054052Z
UID:10000192-1695031200-1695045600@thegreatexchange.org
SUMMARY:Arkansas State University
DESCRIPTION:Hosted by BCM
URL:https://thegreatexchange.org/event/arkansas-state-2/
END:VEVENT
BEGIN:VEVENT
DTSTART;TZID=UTC:20230918T100000
DTEND;TZID=UTC:20230918T140000
DTSTAMP:20260420T031420
CREATED:20230804T193954Z
LAST-MODIFIED:20231012T051912Z
UID:10000131-1695031200-1695045600@thegreatexchange.org
SUMMARY:Georgia Tech
DESCRIPTION:Hosted by BCM
URL:https://thegreatexchange.org/event/georgia-tech-9/
END:VEVENT
BEGIN:VEVENT
DTSTART;TZID=UTC:20230918T090000
DTEND;TZID=UTC:20230918T120000
DTSTAMP:20260420T031420
CREATED:20230824T011110Z
LAST-MODIFIED:20230912T064141Z
UID:10000188-1695027600-1695038400@thegreatexchange.org
SUMMARY:UNG: Gainesville
DESCRIPTION:Hosted by Hopewell Baptist Church
URL:https://thegreatexchange.org/event/ung-gainesville-12/
END:VEVENT
BEGIN:VEVENT
DTSTART;TZID=UTC:20230915T100000
DTEND;TZID=UTC:20230915T140000
DTSTAMP:20260420T031420
CREATED:20230727T224108Z
LAST-MODIFIED:20230727T224108Z
UID:10000121-1694772000-1694786400@thegreatexchange.org
SUMMARY:University of Georgia
DESCRIPTION:hosted by Mars Hill Baptist Church
URL:https://thegreatexchange.org/event/university-of-georgia-14/
END:VEVENT
BEGIN:VEVENT
DTSTART;TZID=UTC:20230914T100000
DTEND;TZID=UTC:20230914T140000
DTSTAMP:20260420T031420
CREATED:20230811T183446Z
LAST-MODIFIED:20231012T054010Z
UID:10000163-1694685600-1694700000@thegreatexchange.org
SUMMARY:Georgia Gwinnett College
DESCRIPTION:Hosted by BCM
URL:https://thegreatexchange.org/event/georgia-gwinnett/
END:VEVENT
BEGIN:VEVENT
DTSTART;TZID=UTC:20230913T100000
DTEND;TZID=UTC:20230913T140000
DTSTAMP:20260420T031420
CREATED:20230817T220230Z
LAST-MODIFIED:20231012T053949Z
UID:10000187-1694599200-1694613600@thegreatexchange.org
SUMMARY:Middle Georgia State University: Macon
DESCRIPTION:Hosted by TGE
URL:https://thegreatexchange.org/event/middle-georgia-macon-2/
END:VEVENT
BEGIN:VEVENT
DTSTART;TZID=UTC:20230913T100000
DTEND;TZID=UTC:20230913T140000
DTSTAMP:20260420T031420
CREATED:20230817T211834Z
LAST-MODIFIED:20231012T053919Z
UID:10000177-1694599200-1694613600@thegreatexchange.org
SUMMARY:University of Georgia
DESCRIPTION:Hosted by Watkinsville First Baptist Church
URL:https://thegreatexchange.org/event/uga-3/
END:VEVENT
BEGIN:VEVENT
DTSTART;TZID=UTC:20230912T100000
DTEND;TZID=UTC:20230912T140000
DTSTAMP:20260420T031420
CREATED:20230812T140015Z
LAST-MODIFIED:20230809T215112Z
UID:10000130-1694512800-1694527200@thegreatexchange.org
SUMMARY:Georgia Tech
DESCRIPTION:Hosted by BCM
URL:https://thegreatexchange.org/event/georgia-tech-8/
END:VEVENT
BEGIN:VEVENT
DTSTART;TZID=UTC:20230912T100000
DTEND;TZID=UTC:20230912T140000
DTSTAMP:20260420T031420
CREATED:20230804T225043Z
LAST-MODIFIED:20231012T053839Z
UID:10000151-1694512800-1694527200@thegreatexchange.org
SUMMARY:Dalton State College
DESCRIPTION:Hosted by TGE
URL:https://thegreatexchange.org/event/dalton-state-3/
END:VEVENT
BEGIN:VEVENT
DTSTART;TZID=UTC:20230905T100000
DTEND;TZID=UTC:20230905T140000
DTSTAMP:20260420T031420
CREATED:20230813T230135Z
LAST-MODIFIED:20230813T230135Z
UID:10000167-1693908000-1693922400@thegreatexchange.org
SUMMARY:UNG: Gainesville
DESCRIPTION:Hosted by BCM
URL:https://thegreatexchange.org/event/ung-gainesville-9/
END:VEVENT
BEGIN:VEVENT
DTSTART;TZID=UTC:20230905T100000
DTEND;TZID=UTC:20230905T140000
DTSTAMP:20260420T031420
CREATED:20230808T220040Z
LAST-MODIFIED:20230808T221750Z
UID:10000159-1693908000-1693922400@thegreatexchange.org
SUMMARY:Kennesaw State University
DESCRIPTION:Hosted by the Navigators
URL:https://thegreatexchange.org/event/kennesaw-state-university-4/
END:VEVENT
BEGIN:VEVENT
DTSTART;TZID=UTC:20230905T100000
DTEND;TZID=UTC:20230905T140000
DTSTAMP:20260420T031420
CREATED:20230804T224008Z
LAST-MODIFIED:20231012T053758Z
UID:10000138-1693908000-1693922400@thegreatexchange.org
SUMMARY:Georgia State University: Clarkston
DESCRIPTION:Hosted by Atlanta Reformation Fellowship (ARF)
URL:https://thegreatexchange.org/event/georgia-state-clarkston-2/
END:VEVENT
BEGIN:VEVENT
DTSTART;TZID=UTC:20230830T100000
DTEND;TZID=UTC:20230830T140000
DTSTAMP:20260420T031420
CREATED:20230817T220154Z
LAST-MODIFIED:20231012T053706Z
UID:10000186-1693389600-1693404000@thegreatexchange.org
SUMMARY:Middle Georgia State University: Macon
DESCRIPTION:Hosted by TGE
URL:https://thegreatexchange.org/event/middle-georgia-macon/
END:VEVENT
BEGIN:VEVENT
DTSTART;TZID=UTC:20230830T100000
DTEND;TZID=UTC:20230830T140000
DTSTAMP:20260420T031420
CREATED:20230817T211759Z
LAST-MODIFIED:20230817T221252Z
UID:10000176-1693389600-1693404000@thegreatexchange.org
SUMMARY:University of Georgia
DESCRIPTION:Hosted by WFBC
URL:https://thegreatexchange.org/event/uga-2/
END:VEVENT
BEGIN:VEVENT
DTSTART;TZID=UTC:20230829T100000
DTEND;TZID=UTC:20230829T140000
DTSTAMP:20260420T031420
CREATED:20230814T184857Z
LAST-MODIFIED:20231012T053607Z
UID:10000172-1693303200-1693317600@thegreatexchange.org
SUMMARY:Georgia State University: Newton
DESCRIPTION:Hosted by BCM
URL:https://thegreatexchange.org/event/georgia-state-newton-5/
END:VEVENT
BEGIN:VEVENT
DTSTART;TZID=UTC:20230829T100000
DTEND;TZID=UTC:20230829T140000
DTSTAMP:20260420T031420
CREATED:20230804T224958Z
LAST-MODIFIED:20231012T053544Z
UID:10000150-1693303200-1693317600@thegreatexchange.org
SUMMARY:Dalton State College
DESCRIPTION:Hosted by TGE
URL:https://thegreatexchange.org/event/dalton-state-2/
END:VEVENT
BEGIN:VEVENT
DTSTART;TZID=UTC:20230825T100000
DTEND;TZID=UTC:20230825T140000
DTSTAMP:20260420T031420
CREATED:20230813T230440Z
LAST-MODIFIED:20230814T182235Z
UID:10000170-1692957600-1692972000@thegreatexchange.org
SUMMARY:University of Georgia
DESCRIPTION:Hosted by Grace Life Church
URL:https://thegreatexchange.org/event/university-of-georgia-21/
END:VEVENT
END:VCALENDAR