BEGIN:VCALENDAR
VERSION:2.0
PRODID:-//The Great Exchange - ECPv6.15.20//NONSGML v1.0//EN
CALSCALE:GREGORIAN
METHOD:PUBLISH
X-WR-CALNAME:The Great Exchange
X-ORIGINAL-URL:https://thegreatexchange.org
X-WR-CALDESC:Events for The Great Exchange
REFRESH-INTERVAL;VALUE=DURATION:PT1H
X-Robots-Tag:noindex
X-PUBLISHED-TTL:PT1H
BEGIN:VTIMEZONE
TZID:UTC
BEGIN:STANDARD
TZOFFSETFROM:+0000
TZOFFSETTO:+0000
TZNAME:UTC
DTSTART:20220101T000000
END:STANDARD
END:VTIMEZONE
BEGIN:VEVENT
DTSTART;VALUE=DATE:20230304
DTEND;VALUE=DATE:20230309
DTSTAMP:20260422T180037
CREATED:20230401T174458Z
LAST-MODIFIED:20230401T174458Z
UID:10000092-1677888000-1678319999@thegreatexchange.org
SUMMARY:Tallahassee\, FL Missions Trip
DESCRIPTION:hosted by Prince Avenue Baptist Church\, Living Hope Church\, Ratio Christi\, and Watkinsville First Baptist Church
URL:https://thegreatexchange.org/event/tallahassee-fl-missions-trip/
END:VEVENT
BEGIN:VEVENT
DTSTART;TZID=UTC:20230301T100000
DTEND;TZID=UTC:20230301T140000
DTSTAMP:20260422T180037
CREATED:20230401T165254Z
LAST-MODIFIED:20230401T165254Z
UID:10000063-1677664800-1677679200@thegreatexchange.org
SUMMARY:Georgia State University
DESCRIPTION:hosted by BCM
URL:https://thegreatexchange.org/event/georgia-state-university-6/
END:VEVENT
BEGIN:VEVENT
DTSTART;TZID=UTC:20230228T100000
DTEND;TZID=UTC:20230228T140000
DTSTAMP:20260422T180037
CREATED:20230401T173632Z
LAST-MODIFIED:20230401T173632Z
UID:10000091-1677578400-1677592800@thegreatexchange.org
SUMMARY:Georgia College
DESCRIPTION:hosted by BCM
URL:https://thegreatexchange.org/event/georgia-college/
END:VEVENT
BEGIN:VEVENT
DTSTART;TZID=UTC:20230228T100000
DTEND;TZID=UTC:20230228T140000
DTSTAMP:20260422T180037
CREATED:20230401T164330Z
LAST-MODIFIED:20230401T164330Z
UID:10000051-1677578400-1677592800@thegreatexchange.org
SUMMARY:Georgia State: Newton
DESCRIPTION:hosted by BCM
URL:https://thegreatexchange.org/event/georgia-state-newton-3/
END:VEVENT
BEGIN:VEVENT
DTSTART;TZID=UTC:20230228T100000
DTEND;TZID=UTC:20230228T140000
DTSTAMP:20260422T180037
CREATED:20230401T161612Z
LAST-MODIFIED:20230401T161612Z
UID:10000029-1677578400-1677592800@thegreatexchange.org
SUMMARY:Dalton State College
DESCRIPTION:
URL:https://thegreatexchange.org/event/dalton-state-college-6/
END:VEVENT
BEGIN:VEVENT
DTSTART;TZID=UTC:20230228T100000
DTEND;TZID=UTC:20230228T130000
DTSTAMP:20260422T180037
CREATED:20230401T173556Z
LAST-MODIFIED:20230401T173556Z
UID:10000090-1677578400-1677589200@thegreatexchange.org
SUMMARY:Georgia Southern University
DESCRIPTION:hosted by BCM
URL:https://thegreatexchange.org/event/georgia-southern-university/
END:VEVENT
BEGIN:VEVENT
DTSTART;TZID=UTC:20230227T100000
DTEND;TZID=UTC:20230227T140000
DTSTAMP:20260422T180037
CREATED:20230401T173438Z
LAST-MODIFIED:20230401T173438Z
UID:10000089-1677492000-1677506400@thegreatexchange.org
SUMMARY:Clemson University
DESCRIPTION:hosted by Tiger Christian Life
URL:https://thegreatexchange.org/event/clemson-university-5/
END:VEVENT
BEGIN:VEVENT
DTSTART;TZID=UTC:20230223T100000
DTEND;TZID=UTC:20230223T140000
DTSTAMP:20260422T180037
CREATED:20230401T173255Z
LAST-MODIFIED:20230401T173309Z
UID:10000087-1677146400-1677160800@thegreatexchange.org
SUMMARY:Middle Georgia State University: Cochran
DESCRIPTION:hosted by BCM
URL:https://thegreatexchange.org/event/middle-georgia-cochran-2/
END:VEVENT
BEGIN:VEVENT
DTSTART;TZID=UTC:20230222T100000
DTEND;TZID=UTC:20230222T140000
DTSTAMP:20260422T180037
CREATED:20230401T165748Z
LAST-MODIFIED:20230401T165748Z
UID:10000067-1677060000-1677074400@thegreatexchange.org
SUMMARY:Kennesaw State University
DESCRIPTION:hosted by the Navigators
URL:https://thegreatexchange.org/event/kennesaw-state-university-2/
END:VEVENT
BEGIN:VEVENT
DTSTART;TZID=UTC:20230222T100000
DTEND;TZID=UTC:20230222T130000
DTSTAMP:20260422T180037
CREATED:20230401T173150Z
LAST-MODIFIED:20230401T173150Z
UID:10000086-1677060000-1677070800@thegreatexchange.org
SUMMARY:Gordon State College
DESCRIPTION:hosted by BCM
URL:https://thegreatexchange.org/event/gordon-state-college-2/
END:VEVENT
BEGIN:VEVENT
DTSTART;TZID=UTC:20230221T100000
DTEND;TZID=UTC:20230221T140000
DTSTAMP:20260422T180037
CREATED:20230401T172708Z
LAST-MODIFIED:20230401T172708Z
UID:10000082-1676973600-1676988000@thegreatexchange.org
SUMMARY:UNG Gainesville
DESCRIPTION:hosted by BCM
URL:https://thegreatexchange.org/event/ung-gainesville-5/
END:VEVENT
BEGIN:VEVENT
DTSTART;TZID=UTC:20230220T100000
DTEND;TZID=UTC:20230220T140000
DTSTAMP:20260422T180037
CREATED:20230401T163128Z
LAST-MODIFIED:20230401T163128Z
UID:10000041-1676887200-1676901600@thegreatexchange.org
SUMMARY:Georgia Tech
DESCRIPTION:hosted by BCM
URL:https://thegreatexchange.org/event/georgia-tech-6/
END:VEVENT
BEGIN:VEVENT
DTSTART;TZID=UTC:20230220T090000
DTEND;TZID=UTC:20230220T150000
DTSTAMP:20260422T180037
CREATED:20230401T172459Z
LAST-MODIFIED:20230401T172459Z
UID:10000080-1676883600-1676905200@thegreatexchange.org
SUMMARY:University of Kentucky
DESCRIPTION:hosted by BCM
URL:https://thegreatexchange.org/event/university-of-kentucky-5/
END:VEVENT
BEGIN:VEVENT
DTSTART;TZID=UTC:20230217T100000
DTEND;TZID=UTC:20230217T140000
DTSTAMP:20260422T180037
CREATED:20230401T172941Z
LAST-MODIFIED:20230401T172941Z
UID:10000084-1676628000-1676642400@thegreatexchange.org
SUMMARY:University of Georgia
DESCRIPTION:hosted by Mars Hill Baptist Church
URL:https://thegreatexchange.org/event/university-of-georgia-9/
END:VEVENT
BEGIN:VEVENT
DTSTART;TZID=UTC:20230216T100000
DTEND;TZID=UTC:20230216T140000
DTSTAMP:20260422T180037
CREATED:20230401T170920Z
LAST-MODIFIED:20230401T170920Z
UID:10000077-1676541600-1676556000@thegreatexchange.org
SUMMARY:Georgia Gwinnett College
DESCRIPTION:hosted by BCM
URL:https://thegreatexchange.org/event/georgia-gwinnett-college-2/
END:VEVENT
BEGIN:VEVENT
DTSTART;TZID=UTC:20230216T100000
DTEND;TZID=UTC:20230216T140000
DTSTAMP:20260422T180037
CREATED:20230401T162703Z
LAST-MODIFIED:20230401T162703Z
UID:10000037-1676541600-1676556000@thegreatexchange.org
SUMMARY:University of Georgia
DESCRIPTION:hosted by Living Hope Church
URL:https://thegreatexchange.org/event/university-of-georgia-4/
END:VEVENT
BEGIN:VEVENT
DTSTART;TZID=UTC:20230216T053000
DTEND;TZID=UTC:20230216T200000
DTSTAMP:20260422T180037
CREATED:20230401T172318Z
LAST-MODIFIED:20230401T172318Z
UID:10000079-1676525400-1676577600@thegreatexchange.org
SUMMARY:TGE Fundraising Banquet
DESCRIPTION:Prince Avenue Baptist Church Tabernacle
URL:https://thegreatexchange.org/event/tge-fundraising-banquet/
END:VEVENT
BEGIN:VEVENT
DTSTART;TZID=UTC:20230215T100000
DTEND;TZID=UTC:20230215T140000
DTSTAMP:20260422T180037
CREATED:20230401T170743Z
LAST-MODIFIED:20230401T170743Z
UID:10000076-1676455200-1676469600@thegreatexchange.org
SUMMARY:Mercer University
DESCRIPTION:hosted by BCM
URL:https://thegreatexchange.org/event/mercer-university-2/
END:VEVENT
BEGIN:VEVENT
DTSTART;TZID=UTC:20230215T100000
DTEND;TZID=UTC:20230215T140000
DTSTAMP:20260422T180037
CREATED:20230401T165237Z
LAST-MODIFIED:20230401T165237Z
UID:10000062-1676455200-1676469600@thegreatexchange.org
SUMMARY:Georgia State University
DESCRIPTION:hosted by BCM
URL:https://thegreatexchange.org/event/georgia-state-university-5/
END:VEVENT
BEGIN:VEVENT
DTSTART;TZID=UTC:20230215T100000
DTEND;TZID=UTC:20230215T140000
DTSTAMP:20260422T180037
CREATED:20230401T163343Z
LAST-MODIFIED:20230401T163343Z
UID:10000044-1676455200-1676469600@thegreatexchange.org
SUMMARY:Columbia College
DESCRIPTION:hosted by BCM
URL:https://thegreatexchange.org/event/columbia-college-2/
END:VEVENT
BEGIN:VEVENT
DTSTART;TZID=UTC:20230214T100000
DTEND;TZID=UTC:20230214T140000
DTSTAMP:20260422T180037
CREATED:20230401T170629Z
LAST-MODIFIED:20230401T170629Z
UID:10000075-1676368800-1676383200@thegreatexchange.org
SUMMARY:UNG Oconee
DESCRIPTION:hosted by Watkinsville First Baptist Church
URL:https://thegreatexchange.org/event/ung-oconee-2/
END:VEVENT
BEGIN:VEVENT
DTSTART;TZID=UTC:20230214T100000
DTEND;TZID=UTC:20230214T140000
DTSTAMP:20260422T180037
CREATED:20230401T161537Z
LAST-MODIFIED:20230401T161537Z
UID:10000028-1676368800-1676383200@thegreatexchange.org
SUMMARY:Dalton State College
DESCRIPTION:
URL:https://thegreatexchange.org/event/dalton-state-college-5/
END:VEVENT
BEGIN:VEVENT
DTSTART;TZID=UTC:20230213T110000
DTEND;TZID=UTC:20230213T140000
DTSTAMP:20260422T180037
CREATED:20230401T163603Z
LAST-MODIFIED:20230401T163603Z
UID:10000047-1676286000-1676296800@thegreatexchange.org
SUMMARY:UNG Dahlonega
DESCRIPTION:hosted by BCM
URL:https://thegreatexchange.org/event/ung-dahlonega-3/
END:VEVENT
BEGIN:VEVENT
DTSTART;TZID=UTC:20230213T100000
DTEND;TZID=UTC:20230213T140000
DTSTAMP:20260422T180037
CREATED:20230401T170414Z
LAST-MODIFIED:20230401T170414Z
UID:10000074-1676282400-1676296800@thegreatexchange.org
SUMMARY:Clemson University
DESCRIPTION:hosted by Tiger Christian Life
URL:https://thegreatexchange.org/event/clemson-university-6/
END:VEVENT
BEGIN:VEVENT
DTSTART;TZID=UTC:20230213T100000
DTEND;TZID=UTC:20230213T140000
DTSTAMP:20260422T180037
CREATED:20230401T164625Z
LAST-MODIFIED:20230401T164625Z
UID:10000055-1676282400-1676296800@thegreatexchange.org
SUMMARY:University of Georgia
DESCRIPTION:hosted by Watty College
URL:https://thegreatexchange.org/event/university-of-georgia-7/
END:VEVENT
BEGIN:VEVENT
DTSTART;TZID=UTC:20230209T100000
DTEND;TZID=UTC:20230209T140000
DTSTAMP:20260422T180037
CREATED:20230401T163102Z
LAST-MODIFIED:20230401T163102Z
UID:10000040-1675936800-1675951200@thegreatexchange.org
SUMMARY:Georgia Tech
DESCRIPTION:hosted by BCM
URL:https://thegreatexchange.org/event/georgia-tech-5/
END:VEVENT
BEGIN:VEVENT
DTSTART;TZID=UTC:20230208T100000
DTEND;TZID=UTC:20230208T140000
DTSTAMP:20260422T180037
CREATED:20230401T170250Z
LAST-MODIFIED:20230401T170250Z
UID:10000072-1675850400-1675864800@thegreatexchange.org
SUMMARY:Coastal Carolina University
DESCRIPTION:hosted by Cru
URL:https://thegreatexchange.org/event/coastal-carolina-university/
END:VEVENT
BEGIN:VEVENT
DTSTART;TZID=UTC:20230207T100000
DTEND;TZID=UTC:20230207T140000
DTSTAMP:20260422T180037
CREATED:20230401T170118Z
LAST-MODIFIED:20230401T170118Z
UID:10000070-1675764000-1675778400@thegreatexchange.org
SUMMARY:UNG Gainesville
DESCRIPTION:hosted by Harvest Baptist Church
URL:https://thegreatexchange.org/event/ung-gainesville-3/
END:VEVENT
BEGIN:VEVENT
DTSTART;TZID=UTC:20230206T100000
DTEND;TZID=UTC:20230206T140000
DTSTAMP:20260422T180037
CREATED:20230401T170007Z
LAST-MODIFIED:20230401T170007Z
UID:10000069-1675677600-1675692000@thegreatexchange.org
SUMMARY:University of West Georgia
DESCRIPTION:hosted by BCM
URL:https://thegreatexchange.org/event/university-of-west-georgia/
END:VEVENT
BEGIN:VEVENT
DTSTART;TZID=UTC:20230206T100000
DTEND;TZID=UTC:20230206T140000
DTSTAMP:20260422T180037
CREATED:20230401T164823Z
LAST-MODIFIED:20230401T164823Z
UID:10000059-1675677600-1675692000@thegreatexchange.org
SUMMARY:Clemson University
DESCRIPTION:hosted by Tiger Christian Life
URL:https://thegreatexchange.org/event/clemson-university-4/
END:VEVENT
END:VCALENDAR