BEGIN:VCALENDAR
VERSION:2.0
PRODID:-//The Great Exchange - ECPv6.15.20//NONSGML v1.0//EN
CALSCALE:GREGORIAN
METHOD:PUBLISH
X-WR-CALNAME:The Great Exchange
X-ORIGINAL-URL:https://thegreatexchange.org
X-WR-CALDESC:Events for The Great Exchange
REFRESH-INTERVAL;VALUE=DURATION:PT1H
X-Robots-Tag:noindex
X-PUBLISHED-TTL:PT1H
BEGIN:VTIMEZONE
TZID:UTC
BEGIN:STANDARD
TZOFFSETFROM:+0000
TZOFFSETTO:+0000
TZNAME:UTC
DTSTART:20220101T000000
END:STANDARD
END:VTIMEZONE
BEGIN:VEVENT
DTSTART;TZID=UTC:20230425T100000
DTEND;TZID=UTC:20230425T140000
DTSTAMP:20260420T071758
CREATED:20230401T043858Z
LAST-MODIFIED:20230401T043858Z
UID:10000020-1682416800-1682431200@thegreatexchange.org
SUMMARY:Dalton State College
DESCRIPTION:
URL:https://thegreatexchange.org/event/dalton-state-college-2/
END:VEVENT
BEGIN:VEVENT
DTSTART;TZID=UTC:20230424T100000
DTEND;TZID=UTC:20230424T140000
DTSTAMP:20260420T071758
CREATED:20230401T043735Z
LAST-MODIFIED:20230401T043735Z
UID:10000018-1682330400-1682344800@thegreatexchange.org
SUMMARY:Georgia Tech
DESCRIPTION:hosted by BCM
URL:https://thegreatexchange.org/event/georgia-tech-2/
END:VEVENT
BEGIN:VEVENT
DTSTART;TZID=UTC:20230424T100000
DTEND;TZID=UTC:20230424T130000
DTSTAMP:20260420T071758
CREATED:20230401T043638Z
LAST-MODIFIED:20230401T043638Z
UID:10000017-1682330400-1682341200@thegreatexchange.org
SUMMARY:Gordon State College
DESCRIPTION:hosted by BCM
URL:https://thegreatexchange.org/event/gordon-state-college/
END:VEVENT
BEGIN:VEVENT
DTSTART;TZID=UTC:20230421T100000
DTEND;TZID=UTC:20230421T140000
DTSTAMP:20260420T071758
CREATED:20230401T044439Z
LAST-MODIFIED:20230401T044439Z
UID:10000022-1682071200-1682085600@thegreatexchange.org
SUMMARY:University of Georgia
DESCRIPTION:hosted by Mars Hill Baptist Church
URL:https://thegreatexchange.org/event/university-of-georgia-2/
END:VEVENT
BEGIN:VEVENT
DTSTART;TZID=UTC:20230420T100000
DTEND;TZID=UTC:20230420T140000
DTSTAMP:20260420T071758
CREATED:20230401T043227Z
LAST-MODIFIED:20230401T043227Z
UID:10000016-1681984800-1681999200@thegreatexchange.org
SUMMARY:University of Georgia
DESCRIPTION:hosted by Living Hope Church
URL:https://thegreatexchange.org/event/university-of-georgia/
END:VEVENT
BEGIN:VEVENT
DTSTART;TZID=UTC:20230419T100000
DTEND;TZID=UTC:20230419T140000
DTSTAMP:20260420T071758
CREATED:20230401T044008Z
LAST-MODIFIED:20230411T200945Z
UID:10000021-1681898400-1681912800@thegreatexchange.org
SUMMARY:Georgia State University
DESCRIPTION:hosted by BCM
URL:https://thegreatexchange.org/event/georgia-state-university-2/
END:VEVENT
BEGIN:VEVENT
DTSTART;TZID=UTC:20230418T100000
DTEND;TZID=UTC:20230418T140000
DTSTAMP:20260420T071758
CREATED:20240105T205458Z
LAST-MODIFIED:20240106T191627Z
UID:10000230-1681812000-1681826400@thegreatexchange.org
SUMMARY:University of Georgia
DESCRIPTION:hosted by Living Hope Church
URL:https://thegreatexchange.org/event/uga-4/2023-04-18/
END:VEVENT
BEGIN:VEVENT
DTSTART;TZID=UTC:20230418T100000
DTEND;TZID=UTC:20230418T140000
DTSTAMP:20260420T071758
CREATED:20230401T043824Z
LAST-MODIFIED:20230416T150907Z
UID:10000019-1681812000-1681826400@thegreatexchange.org
SUMMARY:UNG Gainesville
DESCRIPTION:hosted by BCM
URL:https://thegreatexchange.org/event/ung-gainesville-2/
END:VEVENT
BEGIN:VEVENT
DTSTART;TZID=UTC:20230418T100000
DTEND;TZID=UTC:20230418T140000
DTSTAMP:20260420T071758
CREATED:20230401T043036Z
LAST-MODIFIED:20230401T043036Z
UID:10000015-1681812000-1681826400@thegreatexchange.org
SUMMARY:Georgia State: Newton
DESCRIPTION:hosted by BCM
URL:https://thegreatexchange.org/event/georgia-state-newton/
END:VEVENT
BEGIN:VEVENT
DTSTART;TZID=UTC:20230417T100000
DTEND;TZID=UTC:20230417T140000
DTSTAMP:20260420T071758
CREATED:20230401T042920Z
LAST-MODIFIED:20230418T172206Z
UID:10000014-1681725600-1681740000@thegreatexchange.org
SUMMARY:University of Georgia
DESCRIPTION:hosted by Watty College and Cleveland Road Baptist Church
URL:https://thegreatexchange.org/event/uga/
END:VEVENT
BEGIN:VEVENT
DTSTART;TZID=UTC:20230413T100000
DTEND;TZID=UTC:20230413T140000
DTSTAMP:20260420T071758
CREATED:20230401T042803Z
LAST-MODIFIED:20230401T042803Z
UID:10000013-1681380000-1681394400@thegreatexchange.org
SUMMARY:Middle Georgia: Cochran
DESCRIPTION:hosted by BCM
URL:https://thegreatexchange.org/event/middle-georgia-cochran/
END:VEVENT
BEGIN:VEVENT
DTSTART;TZID=UTC:20230412T100000
DTEND;TZID=UTC:20230412T140000
DTSTAMP:20260420T071758
CREATED:20230412T200553Z
LAST-MODIFIED:20230412T200553Z
UID:10000108-1681293600-1681308000@thegreatexchange.org
SUMMARY:Murray State University
DESCRIPTION:hosted by BCM
URL:https://thegreatexchange.org/event/murray-state-university/
END:VEVENT
BEGIN:VEVENT
DTSTART;TZID=UTC:20230412T100000
DTEND;TZID=UTC:20230412T140000
DTSTAMP:20260420T071758
CREATED:20230401T042711Z
LAST-MODIFIED:20230401T042711Z
UID:10000012-1681293600-1681308000@thegreatexchange.org
SUMMARY:Columbus State University
DESCRIPTION:hosted by BCM
URL:https://thegreatexchange.org/event/columbus-state-university/
END:VEVENT
BEGIN:VEVENT
DTSTART;TZID=UTC:20230412T100000
DTEND;TZID=UTC:20230412T140000
DTSTAMP:20260420T071758
CREATED:20230401T042459Z
LAST-MODIFIED:20230401T042459Z
UID:10000010-1681293600-1681308000@thegreatexchange.org
SUMMARY:Mercer University
DESCRIPTION:hosted by BCM
URL:https://thegreatexchange.org/event/mercer-university/
END:VEVENT
BEGIN:VEVENT
DTSTART;TZID=UTC:20230411T100000
DTEND;TZID=UTC:20230411T140000
DTSTAMP:20260420T071758
CREATED:20230401T042344Z
LAST-MODIFIED:20230401T042344Z
UID:10000009-1681207200-1681221600@thegreatexchange.org
SUMMARY:Dalton State College
DESCRIPTION:
URL:https://thegreatexchange.org/event/dalton-state-college/
END:VEVENT
BEGIN:VEVENT
DTSTART;TZID=UTC:20230410T110000
DTEND;TZID=UTC:20230410T140000
DTSTAMP:20260420T071758
CREATED:20230401T042244Z
LAST-MODIFIED:20230401T042244Z
UID:10000008-1681124400-1681135200@thegreatexchange.org
SUMMARY:UNG: Dahlonega
DESCRIPTION:hosted by BCM
URL:https://thegreatexchange.org/event/ung-dahlonega/
END:VEVENT
BEGIN:VEVENT
DTSTART;TZID=UTC:20230410T090000
DTEND;TZID=UTC:20230410T150000
DTSTAMP:20260420T071758
CREATED:20230401T042141Z
LAST-MODIFIED:20230401T044154Z
UID:10000007-1681117200-1681138800@thegreatexchange.org
SUMMARY:University of Kentucky
DESCRIPTION:hosted by BCM
URL:https://thegreatexchange.org/event/university-of-kentucky/
END:VEVENT
BEGIN:VEVENT
DTSTART;TZID=UTC:20230406T100000
DTEND;TZID=UTC:20230406T140000
DTSTAMP:20260420T071758
CREATED:20230401T041949Z
LAST-MODIFIED:20230401T041949Z
UID:10000006-1680775200-1680789600@thegreatexchange.org
SUMMARY:Georgia Gwinnett College
DESCRIPTION:hosted by BCM
URL:https://thegreatexchange.org/event/georgia-gwinnett-college/
END:VEVENT
BEGIN:VEVENT
DTSTART;TZID=UTC:20230406T100000
DTEND;TZID=UTC:20230406T140000
DTSTAMP:20260420T071758
CREATED:20230401T041833Z
LAST-MODIFIED:20230401T041833Z
UID:10000005-1680775200-1680789600@thegreatexchange.org
SUMMARY:Georgia Tech
DESCRIPTION:hosted by BCM
URL:https://thegreatexchange.org/event/georgia-tech/
END:VEVENT
BEGIN:VEVENT
DTSTART;TZID=UTC:20230405T100000
DTEND;TZID=UTC:20230405T140000
DTSTAMP:20260420T071759
CREATED:20230401T042606Z
LAST-MODIFIED:20230411T201055Z
UID:10000011-1680688800-1680703200@thegreatexchange.org
SUMMARY:Georgia State University
DESCRIPTION:hosted by BCM
URL:https://thegreatexchange.org/event/georgia-state-university/
END:VEVENT
BEGIN:VEVENT
DTSTART;TZID=UTC:20230405T100000
DTEND;TZID=UTC:20230405T140000
DTSTAMP:20260420T071759
CREATED:20230401T041534Z
LAST-MODIFIED:20230401T041534Z
UID:10000004-1680688800-1680703200@thegreatexchange.org
SUMMARY:Valdosta State University
DESCRIPTION:hosted by BCM
URL:https://thegreatexchange.org/event/valdosta-state-university/
END:VEVENT
BEGIN:VEVENT
DTSTART;TZID=UTC:20230404T100000
DTEND;TZID=UTC:20230404T140000
DTSTAMP:20260420T071759
CREATED:20230401T041346Z
LAST-MODIFIED:20230401T041346Z
UID:10000003-1680602400-1680616800@thegreatexchange.org
SUMMARY:UNG Gainesville
DESCRIPTION:hosted by Harvest Baptist Church
URL:https://thegreatexchange.org/event/ung-gainesville/
END:VEVENT
BEGIN:VEVENT
DTSTART;TZID=UTC:20230404T100000
DTEND;TZID=UTC:20230404T140000
DTSTAMP:20260420T071759
CREATED:20230401T041256Z
LAST-MODIFIED:20230401T041256Z
UID:10000002-1680602400-1680616800@thegreatexchange.org
SUMMARY:UNG Oconee
DESCRIPTION:hosted by Watkinsville First Baptist Church
URL:https://thegreatexchange.org/event/ung-oconee/
END:VEVENT
BEGIN:VEVENT
DTSTART;TZID=UTC:20230404T100000
DTEND;TZID=UTC:20230404T140000
DTSTAMP:20260420T071759
CREATED:20230401T041156Z
LAST-MODIFIED:20230401T041156Z
UID:10000001-1680602400-1680616800@thegreatexchange.org
SUMMARY:Clemson University
DESCRIPTION:Hosted by Tiger Christian Life
URL:https://thegreatexchange.org/event/clemson-university/
END:VEVENT
BEGIN:VEVENT
DTSTART;TZID=UTC:20230330T100000
DTEND;TZID=UTC:20230330T140000
DTSTAMP:20260420T071759
CREATED:20230401T175637Z
LAST-MODIFIED:20230401T175637Z
UID:10000106-1680170400-1680184800@thegreatexchange.org
SUMMARY:Middle Georgia State University: Cochran
DESCRIPTION:hosted by BCM
URL:https://thegreatexchange.org/event/middle-georgia-state-university-cochran/
END:VEVENT
BEGIN:VEVENT
DTSTART;TZID=UTC:20230330T100000
DTEND;TZID=UTC:20230330T140000
DTSTAMP:20260420T071759
CREATED:20230401T163159Z
LAST-MODIFIED:20230401T163159Z
UID:10000042-1680170400-1680184800@thegreatexchange.org
SUMMARY:Georgia Tech
DESCRIPTION:hosted by BCM
URL:https://thegreatexchange.org/event/georgia-tech-7/
END:VEVENT
BEGIN:VEVENT
DTSTART;TZID=UTC:20230330T093000
DTEND;TZID=UTC:20230330T123000
DTSTAMP:20260420T071759
CREATED:20230401T175549Z
LAST-MODIFIED:20230401T175549Z
UID:10000105-1680168600-1680179400@thegreatexchange.org
SUMMARY:Gordon State College
DESCRIPTION:hosted by BCM
URL:https://thegreatexchange.org/event/gordon-state-college-3/
END:VEVENT
BEGIN:VEVENT
DTSTART;TZID=UTC:20230329T100000
DTEND;TZID=UTC:20230329T140000
DTSTAMP:20260420T071759
CREATED:20230401T175449Z
LAST-MODIFIED:20230401T175449Z
UID:10000104-1680084000-1680098400@thegreatexchange.org
SUMMARY:UNG Oconee
DESCRIPTION:hosted by Watty College
URL:https://thegreatexchange.org/event/ung-oconee-3/
END:VEVENT
BEGIN:VEVENT
DTSTART;TZID=UTC:20230329T100000
DTEND;TZID=UTC:20230329T140000
DTSTAMP:20260420T071759
CREATED:20230401T165319Z
LAST-MODIFIED:20230401T165319Z
UID:10000064-1680084000-1680098400@thegreatexchange.org
SUMMARY:Georgia State University
DESCRIPTION:hosted by BCM
URL:https://thegreatexchange.org/event/georgia-state-university-7/
END:VEVENT
BEGIN:VEVENT
DTSTART;TZID=UTC:20230328T100000
DTEND;TZID=UTC:20230328T140000
DTSTAMP:20260420T071759
CREATED:20230401T164348Z
LAST-MODIFIED:20230401T164348Z
UID:10000052-1679997600-1680012000@thegreatexchange.org
SUMMARY:Georgia State: Newton
DESCRIPTION:hosted by BCM
URL:https://thegreatexchange.org/event/georgia-state-newton-4/
END:VEVENT
END:VCALENDAR