BEGIN:VCALENDAR
VERSION:2.0
PRODID:-//The Great Exchange - ECPv6.15.20//NONSGML v1.0//EN
CALSCALE:GREGORIAN
METHOD:PUBLISH
X-WR-CALNAME:The Great Exchange
X-ORIGINAL-URL:https://thegreatexchange.org
X-WR-CALDESC:Events for The Great Exchange
REFRESH-INTERVAL;VALUE=DURATION:PT1H
X-Robots-Tag:noindex
X-PUBLISHED-TTL:PT1H
BEGIN:VTIMEZONE
TZID:UTC
BEGIN:STANDARD
TZOFFSETFROM:+0000
TZOFFSETTO:+0000
TZNAME:UTC
DTSTART:20220101T000000
END:STANDARD
END:VTIMEZONE
BEGIN:VEVENT
DTSTART;TZID=UTC:20230215T100000
DTEND;TZID=UTC:20230215T140000
DTSTAMP:20260420T151844
CREATED:20230401T163343Z
LAST-MODIFIED:20230401T163343Z
UID:10000044-1676455200-1676469600@thegreatexchange.org
SUMMARY:Columbia College
DESCRIPTION:hosted by BCM
URL:https://thegreatexchange.org/event/columbia-college-2/
END:VEVENT
BEGIN:VEVENT
DTSTART;TZID=UTC:20230214T100000
DTEND;TZID=UTC:20230214T140000
DTSTAMP:20260420T151844
CREATED:20230401T170629Z
LAST-MODIFIED:20230401T170629Z
UID:10000075-1676368800-1676383200@thegreatexchange.org
SUMMARY:UNG Oconee
DESCRIPTION:hosted by Watkinsville First Baptist Church
URL:https://thegreatexchange.org/event/ung-oconee-2/
END:VEVENT
BEGIN:VEVENT
DTSTART;TZID=UTC:20230214T100000
DTEND;TZID=UTC:20230214T140000
DTSTAMP:20260420T151844
CREATED:20230401T161537Z
LAST-MODIFIED:20230401T161537Z
UID:10000028-1676368800-1676383200@thegreatexchange.org
SUMMARY:Dalton State College
DESCRIPTION:
URL:https://thegreatexchange.org/event/dalton-state-college-5/
END:VEVENT
BEGIN:VEVENT
DTSTART;TZID=UTC:20230213T110000
DTEND;TZID=UTC:20230213T140000
DTSTAMP:20260420T151844
CREATED:20230401T163603Z
LAST-MODIFIED:20230401T163603Z
UID:10000047-1676286000-1676296800@thegreatexchange.org
SUMMARY:UNG Dahlonega
DESCRIPTION:hosted by BCM
URL:https://thegreatexchange.org/event/ung-dahlonega-3/
END:VEVENT
BEGIN:VEVENT
DTSTART;TZID=UTC:20230213T100000
DTEND;TZID=UTC:20230213T140000
DTSTAMP:20260420T151844
CREATED:20230401T170414Z
LAST-MODIFIED:20230401T170414Z
UID:10000074-1676282400-1676296800@thegreatexchange.org
SUMMARY:Clemson University
DESCRIPTION:hosted by Tiger Christian Life
URL:https://thegreatexchange.org/event/clemson-university-6/
END:VEVENT
BEGIN:VEVENT
DTSTART;TZID=UTC:20230213T100000
DTEND;TZID=UTC:20230213T140000
DTSTAMP:20260420T151844
CREATED:20230401T164625Z
LAST-MODIFIED:20230401T164625Z
UID:10000055-1676282400-1676296800@thegreatexchange.org
SUMMARY:University of Georgia
DESCRIPTION:hosted by Watty College
URL:https://thegreatexchange.org/event/university-of-georgia-7/
END:VEVENT
BEGIN:VEVENT
DTSTART;TZID=UTC:20230209T100000
DTEND;TZID=UTC:20230209T140000
DTSTAMP:20260420T151844
CREATED:20230401T163102Z
LAST-MODIFIED:20230401T163102Z
UID:10000040-1675936800-1675951200@thegreatexchange.org
SUMMARY:Georgia Tech
DESCRIPTION:hosted by BCM
URL:https://thegreatexchange.org/event/georgia-tech-5/
END:VEVENT
BEGIN:VEVENT
DTSTART;TZID=UTC:20230208T100000
DTEND;TZID=UTC:20230208T140000
DTSTAMP:20260420T151844
CREATED:20230401T170250Z
LAST-MODIFIED:20230401T170250Z
UID:10000072-1675850400-1675864800@thegreatexchange.org
SUMMARY:Coastal Carolina University
DESCRIPTION:hosted by Cru
URL:https://thegreatexchange.org/event/coastal-carolina-university/
END:VEVENT
BEGIN:VEVENT
DTSTART;TZID=UTC:20230207T100000
DTEND;TZID=UTC:20230207T140000
DTSTAMP:20260420T151844
CREATED:20230401T170118Z
LAST-MODIFIED:20230401T170118Z
UID:10000070-1675764000-1675778400@thegreatexchange.org
SUMMARY:UNG Gainesville
DESCRIPTION:hosted by Harvest Baptist Church
URL:https://thegreatexchange.org/event/ung-gainesville-3/
END:VEVENT
BEGIN:VEVENT
DTSTART;TZID=UTC:20230206T100000
DTEND;TZID=UTC:20230206T140000
DTSTAMP:20260420T151844
CREATED:20230401T170007Z
LAST-MODIFIED:20230401T170007Z
UID:10000069-1675677600-1675692000@thegreatexchange.org
SUMMARY:University of West Georgia
DESCRIPTION:hosted by BCM
URL:https://thegreatexchange.org/event/university-of-west-georgia/
END:VEVENT
BEGIN:VEVENT
DTSTART;TZID=UTC:20230206T100000
DTEND;TZID=UTC:20230206T140000
DTSTAMP:20260420T151844
CREATED:20230401T164823Z
LAST-MODIFIED:20230401T164823Z
UID:10000059-1675677600-1675692000@thegreatexchange.org
SUMMARY:Clemson University
DESCRIPTION:hosted by Tiger Christian Life
URL:https://thegreatexchange.org/event/clemson-university-4/
END:VEVENT
BEGIN:VEVENT
DTSTART;TZID=UTC:20230202T100000
DTEND;TZID=UTC:20230202T140000
DTSTAMP:20260420T151844
CREATED:20230401T165710Z
LAST-MODIFIED:20230401T165710Z
UID:10000066-1675332000-1675346400@thegreatexchange.org
SUMMARY:Kennesaw State University
DESCRIPTION:hosted by the Navigators
URL:https://thegreatexchange.org/event/kennesaw-state-university/
END:VEVENT
BEGIN:VEVENT
DTSTART;TZID=UTC:20230202T100000
DTEND;TZID=UTC:20230202T140000
DTSTAMP:20260420T151844
CREATED:20230401T165552Z
LAST-MODIFIED:20230401T165552Z
UID:10000065-1675332000-1675346400@thegreatexchange.org
SUMMARY:The Citadel
DESCRIPTION:hosted by Cru
URL:https://thegreatexchange.org/event/the-citadel/
END:VEVENT
BEGIN:VEVENT
DTSTART;TZID=UTC:20230201T100000
DTEND;TZID=UTC:20230201T140000
DTSTAMP:20260420T151844
CREATED:20230401T165215Z
LAST-MODIFIED:20230401T165215Z
UID:10000061-1675245600-1675260000@thegreatexchange.org
SUMMARY:Georgia State University
DESCRIPTION:hosted by BCM
URL:https://thegreatexchange.org/event/georgia-state-university-4/
END:VEVENT
BEGIN:VEVENT
DTSTART;TZID=UTC:20230201T100000
DTEND;TZID=UTC:20230201T140000
DTSTAMP:20260420T151844
CREATED:20230401T165034Z
LAST-MODIFIED:20230401T165034Z
UID:10000060-1675245600-1675260000@thegreatexchange.org
SUMMARY:College of Charleston
DESCRIPTION:hosted by Cru
URL:https://thegreatexchange.org/event/college-of-charleston/
END:VEVENT
BEGIN:VEVENT
DTSTART;TZID=UTC:20230131T100000
DTEND;TZID=UTC:20230131T140000
DTSTAMP:20260420T151844
CREATED:20230401T161502Z
LAST-MODIFIED:20230401T161502Z
UID:10000027-1675159200-1675173600@thegreatexchange.org
SUMMARY:Dalton State College
DESCRIPTION:
URL:https://thegreatexchange.org/event/dalton-state-college-4/
END:VEVENT
BEGIN:VEVENT
DTSTART;TZID=UTC:20230130T100000
DTEND;TZID=UTC:20230130T140000
DTSTAMP:20260420T151844
CREATED:20230401T164804Z
LAST-MODIFIED:20230401T164804Z
UID:10000058-1675072800-1675087200@thegreatexchange.org
SUMMARY:Clemson University
DESCRIPTION:hosted by Tiger Christian Life
URL:https://thegreatexchange.org/event/clemson-university-3/
END:VEVENT
BEGIN:VEVENT
DTSTART;TZID=UTC:20230130T100000
DTEND;TZID=UTC:20230130T140000
DTSTAMP:20260420T151844
CREATED:20230401T164600Z
LAST-MODIFIED:20230401T164600Z
UID:10000054-1675072800-1675087200@thegreatexchange.org
SUMMARY:University of Georgia
DESCRIPTION:hosted by Watty College
URL:https://thegreatexchange.org/event/university-of-georgia-6/
END:VEVENT
BEGIN:VEVENT
DTSTART;TZID=UTC:20230126T100000
DTEND;TZID=UTC:20230126T140000
DTSTAMP:20260420T151844
CREATED:20230401T164443Z
LAST-MODIFIED:20230401T164443Z
UID:10000053-1674727200-1674741600@thegreatexchange.org
SUMMARY:USC: Upstate
DESCRIPTION:hosted by Cru
URL:https://thegreatexchange.org/event/usc-upstate/
END:VEVENT
BEGIN:VEVENT
DTSTART;TZID=UTC:20230124T100000
DTEND;TZID=UTC:20230124T140000
DTSTAMP:20260420T151844
CREATED:20230401T164247Z
LAST-MODIFIED:20230401T164247Z
UID:10000050-1674554400-1674568800@thegreatexchange.org
SUMMARY:Georgia State: Newton
DESCRIPTION:hosted by BCM
URL:https://thegreatexchange.org/event/georgia-state-newton-2/
END:VEVENT
BEGIN:VEVENT
DTSTART;TZID=UTC:20230123T110000
DTEND;TZID=UTC:20230123T140000
DTSTAMP:20260420T151844
CREATED:20230401T163535Z
LAST-MODIFIED:20230401T163535Z
UID:10000046-1674471600-1674482400@thegreatexchange.org
SUMMARY:UNG Dahlonega
DESCRIPTION:hosted by BCM
URL:https://thegreatexchange.org/event/ung-dahlonega-2/
END:VEVENT
BEGIN:VEVENT
DTSTART;TZID=UTC:20230123T100000
DTEND;TZID=UTC:20230123T140000
DTSTAMP:20260420T151844
CREATED:20230401T163312Z
LAST-MODIFIED:20230401T163312Z
UID:10000043-1674468000-1674482400@thegreatexchange.org
SUMMARY:Columbia College
DESCRIPTION:hosted by BCM
URL:https://thegreatexchange.org/event/columbia-college/
END:VEVENT
BEGIN:VEVENT
DTSTART;TZID=UTC:20230123T100000
DTEND;TZID=UTC:20230123T140000
DTSTAMP:20260420T151844
CREATED:20230401T163016Z
LAST-MODIFIED:20230401T163016Z
UID:10000039-1674468000-1674482400@thegreatexchange.org
SUMMARY:Georgia Tech
DESCRIPTION:hosted by BCM
URL:https://thegreatexchange.org/event/georgia-tech-4/
END:VEVENT
BEGIN:VEVENT
DTSTART;TZID=UTC:20230119T100000
DTEND;TZID=UTC:20230119T140000
DTSTAMP:20260420T151844
CREATED:20230401T162537Z
LAST-MODIFIED:20230401T162537Z
UID:10000036-1674122400-1674136800@thegreatexchange.org
SUMMARY:University of Georgia
DESCRIPTION:hosted by Living Hope Church
URL:https://thegreatexchange.org/event/university-of-georgia-3/
END:VEVENT
BEGIN:VEVENT
DTSTART;TZID=UTC:20230119T100000
DTEND;TZID=UTC:20230119T140000
DTSTAMP:20260420T151844
CREATED:20230401T162412Z
LAST-MODIFIED:20230401T162412Z
UID:10000035-1674122400-1674136800@thegreatexchange.org
SUMMARY:University of South Carolina
DESCRIPTION:hosted by BCM
URL:https://thegreatexchange.org/event/university-of-south-carolina/
END:VEVENT
BEGIN:VEVENT
DTSTART;TZID=UTC:20230118T100000
DTEND;TZID=UTC:20230118T140000
DTSTAMP:20260420T151844
CREATED:20230401T162210Z
LAST-MODIFIED:20230401T162210Z
UID:10000034-1674036000-1674050400@thegreatexchange.org
SUMMARY:Georgia State University
DESCRIPTION:hosted by BCM
URL:https://thegreatexchange.org/event/georgia-state-university-3/
END:VEVENT
BEGIN:VEVENT
DTSTART;TZID=UTC:20230118T090000
DTEND;TZID=UTC:20230118T150000
DTSTAMP:20260420T151844
CREATED:20230401T161834Z
LAST-MODIFIED:20230401T161834Z
UID:10000032-1674032400-1674054000@thegreatexchange.org
SUMMARY:University of Kentucky
DESCRIPTION:hosted by BCM
URL:https://thegreatexchange.org/event/university-of-kentucky-2/
END:VEVENT
BEGIN:VEVENT
DTSTART;TZID=UTC:20230117T110000
DTEND;TZID=UTC:20230117T140000
DTSTAMP:20260420T151844
CREATED:20230401T161735Z
LAST-MODIFIED:20230401T161735Z
UID:10000031-1673953200-1673964000@thegreatexchange.org
SUMMARY:Athens Tech
DESCRIPTION:
URL:https://thegreatexchange.org/event/athens-tech/
END:VEVENT
BEGIN:VEVENT
DTSTART;TZID=UTC:20230117T100000
DTEND;TZID=UTC:20230117T140000
DTSTAMP:20260420T151844
CREATED:20230401T161420Z
LAST-MODIFIED:20230401T161420Z
UID:10000026-1673949600-1673964000@thegreatexchange.org
SUMMARY:Dalton State College
DESCRIPTION:
URL:https://thegreatexchange.org/event/dalton-state-college-3/
END:VEVENT
BEGIN:VEVENT
DTSTART;TZID=UTC:20230112T100000
DTEND;TZID=UTC:20230112T140000
DTSTAMP:20260420T151844
CREATED:20230401T161131Z
LAST-MODIFIED:20230401T161131Z
UID:10000025-1673517600-1673532000@thegreatexchange.org
SUMMARY:Georgia Tech
DESCRIPTION:hosted by BCM
URL:https://thegreatexchange.org/event/georgia-tech-3/
END:VEVENT
END:VCALENDAR